BEGIN:VCALENDAR
VERSION:2.0
PRODID:-//ChamberMaster//Event Calendar 2.0//EN
METHOD:PUBLISH
X-PUBLISHED-TTL:P3D
REFRESH-INTERVAL:P3D
CALSCALE:GREGORIAN
BEGIN:VEVENT
DTSTART:20180706T133000Z
DTEND:20180706T160000Z
X-MICROSOFT-CDO-ALLDAYEVENT:FALSE
SUMMARY:Monoprint the Park
DESCRIPTION:Spend the morning creating a series of Monochromatic Mono prints. No art experience is necessary yet it is enjoyable for artists as well. We have images\, use your own or a combination. Learn to depict  some of the geological features of the island or experiment with our variety of tools in your own way. Here is a very simple process that gives striking results. With our step by step instructions\, rainbow of inks and papers you will bring home a matted framable piece as well as cards. The most difficult part may be deciding on your favorite one to matt! Ages 9 and younger need adult companions.
X-ALT-DESC;FMTTYPE=text/html:<span style="color:rgb(46\, 46\, 46)\; font-family:open sans\,sans-serif\; font-size:15px">Spend the morning creating a series of Monochromatic Mono prints. No art experience is necessary yet it is enjoyable for artists as well. We have images\, use your own or a combination. Learn to depict &nbsp\;some of the geological features of the island or experiment with our variety of tools in your own way. Here is a very simple process that gives striking results. With our step by step instructions\, rainbow of inks and papers you will bring home a matted framable piece as well as cards. The most difficult part may be deciding on your favorite one to matt! Ages 9 and younger need adult companions.</span>
LOCATION:
UID:e.3061.2967
SEQUENCE:3
DTSTAMP:20260420T182336Z
URL:https://www.visitbarharbor.com/events/details/monoprint-the-park-2967
END:VEVENT

END:VCALENDAR
