BEGIN:VCALENDAR
VERSION:2.0
PRODID:-//ChamberMaster//Event Calendar 2.0//EN
METHOD:PUBLISH
X-PUBLISHED-TTL:P3D
REFRESH-INTERVAL:P3D
CALSCALE:GREGORIAN
BEGIN:VEVENT
DTSTART:20190305T211000Z
DTEND:20190305T223000Z
X-MICROSOFT-CDO-ALLDAYEVENT:FALSE
SUMMARY:Modeling Addiction Behaviors in the Laboratory Mouse
DESCRIPTION:Dr. Vivek Kumar joins the College of the Atlantic Human Ecology Forum to talk about his work at Bar Harbor's Jackson Laboratory studying the neuroscience of addiction and how his lab uses computational and engineering tools to study its etiology.
X-ALT-DESC;FMTTYPE=text/html:Dr. Vivek Kumar joins the College of the Atlantic Human Ecology Forum to talk about his work at Bar Harbor&rsquo\;s Jackson Laboratory studying the neuroscience of addiction and how his lab uses computational and engineering tools to study its etiology.
LOCATION:College of the Atlantic McCormick Lecture Hall
UID:e.3061.5088
SEQUENCE:3
DTSTAMP:20260420T043304Z
URL:https://www.visitbarharbor.com/events/details/modeling-addiction-behaviors-in-the-laboratory-mouse-5088
END:VEVENT

END:VCALENDAR
