BEGIN:VCALENDAR
VERSION:2.0
PRODID:-//ChamberMaster//Event Calendar 2.0//EN
METHOD:PUBLISH
X-PUBLISHED-TTL:P3D
REFRESH-INTERVAL:P3D
CALSCALE:GREGORIAN
BEGIN:VEVENT
DTSTART:20180905T170000Z
DTEND:20180905T200000Z
X-MICROSOFT-CDO-ALLDAYEVENT:FALSE
SUMMARY:Mixed Media -Watercolors and Found Objects
DESCRIPTION:Using found objects\, such as stones\, feathers\, rope\, sea glass\, drift wood and more\, students will create 3 dimensional artworks on heavy stock paper. They will later add in details with ink and watercolor paints. This workshop focuses on the fusion using mixed mediums to unify a work of art with a particular theme in mind.\n\nAges 10-100 are welcome to experience our selection of beginner workshops that include a sense of Acadia. Younger children are welcome accompanied by a double-digit partner. We include it all!Excellent for families!
X-ALT-DESC;FMTTYPE=text/html:<div>&nbsp\;</div>\n\n<div>\n<div>\n<p>Using found objects\, such as stones\, feathers\, rope\, sea glass\, drift wood and more\, students will create 3 dimensional artworks on heavy stock paper. They will later add in details with ink and watercolor paints. This workshop focuses on the fusion using mixed mediums to unify a work of art with a particular theme in mind.</p>\n\n<p>Ages 10-100 are welcome to experience our selection of beginner workshops that include a sense of Acadia.&nbsp\;Younger children are welcome accompanied by a double-digit partner. We include it all!Excellent for families!</p>\n</div>\n</div>\n
LOCATION:ArtWaves 1345 state Highway 102 04609
UID:e.3061.3746
SEQUENCE:3
DTSTAMP:20260420T145914Z
URL:https://www.visitbarharbor.com/events/details/mixed-media-watercolors-and-found-objects-3746
END:VEVENT

END:VCALENDAR
