BEGIN:VCALENDAR
VERSION:2.0
PRODID:-//ChamberMaster//Event Calendar 2.0//EN
METHOD:PUBLISH
X-PUBLISHED-TTL:P3D
REFRESH-INTERVAL:P3D
CALSCALE:GREGORIAN
BEGIN:VEVENT
DTSTART:20190905T163000Z
DTEND:20190905T183000Z
X-MICROSOFT-CDO-ALLDAYEVENT:FALSE
SUMMARY:Miniature Crazy Quilt
DESCRIPTION:with Cristy Benson. Come learn fancy embroidery stitches to embellish premade 5x7 silk quilt blocks.  You will leave with a piece for framing or mailing to a loved one.
X-ALT-DESC;FMTTYPE=text/html:with Cristy Benson. Come learn fancy embroidery stitches to embellish premade 5x7 silk quilt blocks.&nbsp\; You will leave with a piece for framing or mailing to a loved one.&nbsp\;&nbsp\;
LOCATION:ArtWaves\, 1345-A State Highway 102\, Bar Harbor.
UID:e.3061.14660
SEQUENCE:3
DTSTAMP:20260419T173028Z
URL:https://www.visitbarharbor.com/events/details/miniature-crazy-quilt-14660
END:VEVENT

END:VCALENDAR
