BEGIN:VCALENDAR
VERSION:2.0
PRODID:-//ChamberMaster//Event Calendar 2.0//EN
METHOD:PUBLISH
X-PUBLISHED-TTL:P3D
REFRESH-INTERVAL:P3D
CALSCALE:GREGORIAN
BEGIN:VEVENT
DTSTART:20181115T000000Z
DTEND:20181115T030000Z
X-MICROSOFT-CDO-ALLDAYEVENT:FALSE
SUMMARY:Miller | MacDonald | Cormier
DESCRIPTION:Ben Miller & Anita MacDonald (https://www.benandanita.com) have become renowned across Atlantic Canada and further afield for their synergistic\, pipe and fiddle driven style of Gaelic dance-music. Joining together the musical traditions of Cape Breton and the Scottish Highlands\, while incorporating influences from Ireland\, Shetland and beyond\, Ben and Anita have created a signature sound\, described as "Fiery... Fresh\, yet totally traditional." - Piping Today Magazine (Glasgow\, UK) Joining them in this project is Zakk Cormier\, a talented multi-instrumentalist with deep roots in the Acadian music community of Prince Edward Island. Zakk brings his talents as a creative and dynamic guitar accompanist\, as well as the driving rhythms of Acadian foot-percussion. As a trio\, these three young artists create a powerful sound\, which transcends the boundaries between Cape Breton\, Scottish\, and Acadian traditions.
X-ALT-DESC;FMTTYPE=text/html:Ben Miller &amp\; Anita MacDonald (https://www.benandanita.com) have become renowned across Atlantic Canada and further afield for their synergistic\, pipe and fiddle driven style of Gaelic dance-music. Joining together the musical traditions of Cape Breton and the Scottish Highlands\, while incorporating influences from Ireland\, Shetland and beyond\, Ben and Anita have created a signature sound\, described as &quot\;Fiery... Fresh\, yet totally traditional.&quot\; - Piping Today Magazine (Glasgow\, UK) Joining them in this project is Zakk Cormier\, a talented multi-instrumentalist with deep roots in the Acadian music community of Prince Edward Island. Zakk brings his talents as a creative and dynamic guitar accompanist\, as well as the driving rhythms of Acadian foot-percussion. As a trio\, these three young artists create a powerful sound\, which transcends the boundaries between Cape Breton\, Scottish\, and Acadian traditions.
LOCATION:St. Saviours Episcopal Church 41 Mount Desert Street Bar Harbor\, Maine
UID:e.3061.3984
SEQUENCE:3
DTSTAMP:20260420T130947Z
URL:https://www.visitbarharbor.com/events/details/miller-macdonald-cormier-3984
END:VEVENT

END:VCALENDAR
