BEGIN:VCALENDAR
VERSION:2.0
PRODID:-//ChamberMaster//Event Calendar 2.0//EN
METHOD:PUBLISH
X-PUBLISHED-TTL:P3D
REFRESH-INTERVAL:P3D
CALSCALE:GREGORIAN
BEGIN:VEVENT
DTSTART:20181114T233000Z
DTEND:20181115T003000Z
X-MICROSOFT-CDO-ALLDAYEVENT:FALSE
SUMMARY:Midwives and Safe Motherhood: Promoting Respectful Care of Women
DESCRIPTION:Linda Robinson\, CNM has spent the past two years living and working in Malawi\, Africa teaching midwifery at Kamuzu College of Nursing. She is part of the Global Health Service Partnership which works in five countries in Africa to train medical professionals in their national setting\, utilizing available resources. She will be at the Library to talk about her experience\, including a short background of the organization\, the country\, the work\, and projects she has worked on to promote respectful care of women and keeping girls in school.
X-ALT-DESC;FMTTYPE=text/html:Linda Robinson\, CNM has spent the past two years living and working in Malawi\, Africa teaching midwifery at Kamuzu College of Nursing. She is part of the Global Health Service Partnership which works in five countries in Africa to train medical professionals in their national setting\, utilizing available resources. She will be at the Library to talk about her experience\, including a short background of the organization\, the country\, the work\, and projects she has worked on to promote respectful care of women and keeping girls in school.
LOCATION:Southwest Harbor Public Library
UID:e.3061.3982
SEQUENCE:3
DTSTAMP:20260420T115112Z
URL:https://www.visitbarharbor.com/events/details/midwives-and-safe-motherhood-promoting-respectful-care-of-women-3982
END:VEVENT

END:VCALENDAR
