BEGIN:VCALENDAR
VERSION:2.0
PRODID:-//ChamberMaster//Event Calendar 2.0//EN
METHOD:PUBLISH
X-PUBLISHED-TTL:P3D
REFRESH-INTERVAL:P3D
CALSCALE:GREGORIAN
BEGIN:VEVENT
DTSTART:20190125T000000Z
DTEND:20190125T010000Z
X-MICROSOFT-CDO-ALLDAYEVENT:FALSE
SUMMARY:Midwives and Safe Motherhood: Promoting Respectful Care of Women
DESCRIPTION:Certified Nurse Midwife Linda Robinson spent two years living and working in Malawi\, Africa teaching midwifery at Kamuzu College of Nursing. Join her on Thursday\, Jan. 24 at 7 p.m. at the Jesup Memorial Library as she talks about her time working to implement a model maternity ward at the college. \n\n \n\nIn Malawi\, the chance that a woman will die in childbirth during her lifetime is 1 in 29\, and there is a growing fear around health facilities because of abusive and disrespectful maternity care. Robinson worked with the Global Health Service Partnership to combat these problems by planning and implementing a model maternity ward to improve the student midwife experience\, empower midwives to function as independent practitioners\, promote respectful care of women and improve overall maternal/infant outcomes. Robinson also will talk about her work to help empower women in the country through teaching them jewelry-making and simple business skills.\n\n \n\nFor more information on the talk\, contact the Jesup at 207-288-4245 or mrice@jesuplibrary.org.
X-ALT-DESC;FMTTYPE=text/html:<span style="font-family:times new roman\,serif"><span style="font-size:14.0pt">Certified Nurse Midwife Linda Robinson spent two years living and working in Malawi\, Africa teaching midwifery at Kamuzu College of Nursing. Join her on Thursday\, Jan. 24 at 7 p.m. at the Jesup Memorial Library as she talks about her time working to implement a model maternity ward at the college. </span></span><br />\n&nbsp\;<br />\n<span style="font-family:times new roman\,serif"><span style="font-size:14.0pt">In Malawi\, the chance that a woman will die in childbirth during her lifetime is 1 in 29\, and there is a growing fear around health facilities because of abusive and disrespectful maternity care. Robinson worked with the Global Health Service Partnership to combat these problems by planning and implementing a model maternity ward to improve the student midwife experience\, empower midwives to function as independent practitioners\, promote respectful care of women and improve overall maternal/infant outcomes. Robinson also will talk about her work to help empower women in the country through teaching them jewelry-making and simple business skills.</span></span><br />\n&nbsp\;<br />\n<span style="font-family:times new roman\,serif"><span style="font-size:14.0pt"><span>For more information on the talk\, contact the Jesup at <span class="gc-cs-link" id="gc-number-0" title="Call with Google Voice">207-288-4245</span> or </span><a href="mailto:mrice@jesuplibrary.org">mrice@jesuplibrary.org</a></span>.</span><br />\n&nbsp\;
LOCATION:34 Mt. Desert St.\, Bar Harbor\, ME 04609
UID:e.3061.4858
SEQUENCE:3
DTSTAMP:20260420T101257Z
URL:https://www.visitbarharbor.com/events/details/midwives-and-safe-motherhood-promoting-respectful-care-of-women-01-24-2019-4858
END:VEVENT

END:VCALENDAR
