BEGIN:VCALENDAR
VERSION:2.0
PRODID:-//ChamberMaster//Event Calendar 2.0//EN
METHOD:PUBLISH
X-PUBLISHED-TTL:P3D
REFRESH-INTERVAL:P3D
CALSCALE:GREGORIAN
BEGIN:VEVENT
DTSTART:20190907T133000Z
DTEND:20190907T163000Z
X-MICROSOFT-CDO-ALLDAYEVENT:FALSE
SUMMARY:Metal Etching with Sarah Regan
DESCRIPTION:In this metal etching workshop\, you'll learn the basics of working with sheet metal to create pieces with a raised image of your choice. You'll learn to use a resist to apply a design on copper\, then a chemical to etch into the copper and brass. The pieces you create can be used for jewelry\, or any number of other projects! You'll also learn the basics of cutting\, filing\, and shaping metal. Please be sure to wear clothing you don't mind staining\, as the etching chemicals will stain like iodine. Sarah is the co-owner of Maine\, Jewelry & Art in Bangor\, Maine    (http://www.mainejewelryart.com/artisans.html). Space is limited and pre-registration at www.woodlawnmuseum.com.
X-ALT-DESC;FMTTYPE=text/html:In this metal etching workshop\, you&rsquo\;ll learn the basics of working with sheet metal to create pieces with a raised image of your choice. You&rsquo\;ll learn to use a resist to apply a design on copper\, then a chemical to etch into the copper and brass. The pieces you create can be used for jewelry\, or any number of other projects! You&rsquo\;ll also learn the basics of cutting\, filing\, and shaping metal. Please be sure to wear clothing you don&rsquo\;t mind staining\, as the etching chemicals will stain like iodine. Sarah is the co-owner of Maine\, Jewelry &amp\; Art in Bangor\, Maine &nbsp\;&nbsp\; (<a href="http://www.mainejewelryart.com/artisans.html">http://www.mainejewelryart.com/artisans.html</a>). Space is limited and pre-registration at www.woodlawnmuseum.com.
LOCATION:Woodlawn Museum 19 Black House Dr. Ellsworth\, ME 04605
UID:e.3061.8935
SEQUENCE:3
DTSTAMP:20260419T192353Z
URL:https://www.visitbarharbor.com/events/details/metal-etching-with-sarah-regan-8935
END:VEVENT

END:VCALENDAR
