BEGIN:VCALENDAR
VERSION:2.0
PRODID:-//ChamberMaster//Event Calendar 2.0//EN
METHOD:PUBLISH
X-PUBLISHED-TTL:P3D
REFRESH-INTERVAL:P3D
CALSCALE:GREGORIAN
BEGIN:VEVENT
DTSTART:20180804T230000Z
DTEND:20180805T020000Z
X-MICROSOFT-CDO-ALLDAYEVENT:FALSE
SUMMARY:Mendelssohn's Elijah
DESCRIPTION:To celebrate the 50th anniversary\, the Mt. Desert Summer Chorale performs ELIJAH by Mendelssohn. The chorale is directed by David Schildkret\, and the chorale is pleased to announce that world-renowned baritone Gordon Hawkins is featured in the title role. Additional soloists include Carole Fitzpatrick (soprano)\, Robyn Rocklein (mezzo-soprano)\, and David Parks (tenor). Singers are both local and from away--some from abroad\, and they are accompanied by a professional orchestra. Come at 7:00 pm for a pre-concert talk by David Schildkret. Admission to the concerts is by voluntary donation at the door.  We suggest $20\, but you may pay more or less as you are able. We recommend arriving early to be sure of getting a seat. Advance tickets are available at Sherman's Bookstore (Bar Harbor)\, Southwest Harbor Library\, or Northeast Harbor Library. For more information\, go to www.summerchorale.org or call 207-244-0042.
X-ALT-DESC;FMTTYPE=text/html:<span style="color:rgb(34\, 34\, 34)\; font-family:arial\,verdana\,sans-serif\; font-size:12px">To celebrate the 50th anniversary\, the Mt. Desert Summer Chorale performs ELIJAH by Mendelssohn. The chorale is directed by David Schildkret\, and the chorale is pleased to announce that world-renowned baritone Gordon Hawkins is featured in the title role. Additional soloists include Carole Fitzpatrick (soprano)\, Robyn Rocklein (mezzo-soprano)\, and David Parks (tenor). Singers are both local and from away--some from abroad\, and they are accompanied by a professional orchestra. Come at 7:00 pm for a pre-concert talk by David Schildkret. Admission to the concerts is by voluntary donation at the door.&nbsp\; We suggest $20\, but you may pay more or less as you are able. We recommend arriving early to be sure of getting a seat. Advance tickets are available at Sherman&#39\;s Bookstore (Bar Harbor)\, Southwest Harbor Library\, or Northeast Harbor Library. For more information\, go to www.summerchorale.org or call 207-244-0042.</span>
LOCATION:St. Saviour's Parish\, Mt. Desert Street\, Bar Harbor\, Maine
UID:e.3061.847
SEQUENCE:3
DTSTAMP:20260420T195822Z
URL:https://www.visitbarharbor.com/events/details/mendelssohn-s-elijah-08-04-2018-847
END:VEVENT

END:VCALENDAR
