BEGIN:VCALENDAR
VERSION:2.0
PRODID:-//ChamberMaster//Event Calendar 2.0//EN
METHOD:PUBLISH
X-PUBLISHED-TTL:P3D
REFRESH-INTERVAL:P3D
CALSCALE:GREGORIAN
BEGIN:VEVENT
DTSTART:20190114T220000Z
DTEND:20190114T230000Z
X-MICROSOFT-CDO-ALLDAYEVENT:FALSE
SUMMARY:MDI Science Café -- Unlocking the Potential for Repair and Regeneration of Human Limbs\, Hearts\, Brains and Other Organs
DESCRIPTION:James Godwin\, Ph.D.\, who studies regeneration in salamanders\, will talk about how the potential for humans to achieve "salamander-like" regenerative capabilities could transform medicine. Godwin\, who is a scientist at the MDI Biological Laboratory\, will also discuss some key areas that are under investigation in regenerative biology and the path to the development of clinical therapies to promote scar-free regeneration and repair in humans.
X-ALT-DESC;FMTTYPE=text/html:James Godwin\, Ph.D.\, who studies regeneration in salamanders\, will talk about how the potential for humans to achieve &ldquo\;salamander-like&rdquo\; regenerative capabilities could transform medicine. Godwin\, who is a scientist at the MDI Biological Laboratory\, will also discuss some key areas that are under investigation in regenerative biology and the path to the development of clinical therapies to promote scar-free regeneration and repair in humans.
LOCATION:MDI Biological Laboratory's Kinne Library 159 Old Bar Harbor Road Bar Harbor\, Maine
UID:e.3061.4824
SEQUENCE:3
DTSTAMP:20260420T082222Z
URL:https://www.visitbarharbor.com/events/details/mdi-science-caf&#233;-unlocking-the-potential-for-repair-and-regeneration-of-human-limbs-hearts-brains-and-other-organs-4824
END:VEVENT

END:VCALENDAR
