BEGIN:VCALENDAR
VERSION:2.0
PRODID:-//ChamberMaster//Event Calendar 2.0//EN
METHOD:PUBLISH
X-PUBLISHED-TTL:P3D
REFRESH-INTERVAL:P3D
CALSCALE:GREGORIAN
BEGIN:VEVENT
DTSTART:20190211T220000Z
DTEND:20190211T230000Z
X-MICROSOFT-CDO-ALLDAYEVENT:FALSE
SUMMARY:MDI Science Café -- Chronic Kidney Disease: The Hidden Danger of Diabetes
DESCRIPTION:The epidemic of chronic kidney disease in those with diabetes and its implications for public health will be the subject of a talk by Hermann Haller\, M.D.\, the president of the MDI Biological Laboratory. Haller is an internationally renowned physician-scientist and a specialist in nephrology\, the branch of medicine that deals with kidney disease.
X-ALT-DESC;FMTTYPE=text/html:The epidemic of chronic kidney disease in those with diabetes and its implications for public health will be the subject of a talk by Hermann Haller\, M.D.\, the president of the MDI Biological Laboratory. Haller is an internationally renowned physician-scientist and a specialist in nephrology\, the branch of medicine that deals with kidney disease.
LOCATION:Maine Center for Biomedical Innovation at the MDI Biological Laboratory at 159 Old Bar Harbor Rd in Bar Harbor\, Maine 04609
UID:e.3061.4825
SEQUENCE:3
DTSTAMP:20260420T063155Z
URL:https://www.visitbarharbor.com/events/details/mdi-science-caf&#233;-chronic-kidney-disease-the-hidden-danger-of-diabetes-4825
END:VEVENT

END:VCALENDAR
