BEGIN:VCALENDAR
VERSION:2.0
PRODID:-//ChamberMaster//Event Calendar 2.0//EN
METHOD:PUBLISH
X-PUBLISHED-TTL:P3D
REFRESH-INTERVAL:P3D
CALSCALE:GREGORIAN
BEGIN:VEVENT
DTSTART:20190422T210000Z
DTEND:20190422T220000Z
X-MICROSOFT-CDO-ALLDAYEVENT:FALSE
SUMMARY:MDI Science Café — Apple Culture: What Microbes Can Teach Us About the History of Maine Cider Craft
DESCRIPTION:Microorganisms are vital to cider-making\, and may have some secrets to share! In this experiential presentation\, Todd Little-Siebold\, Ph.D.\, a history professor at College of the Atlantic (COA) in Bar Harbor\, and Elli Hartig\, a research assistant at the MDI Biological Laboratory\, will explore the science of hard cider.\n\nLittle-Siedbold and Hartig will discuss the elements that go into giving each cider its unique flavor and aroma\, including apples\, yeasts\, fermentation conditions\, aging practices and terroir. Little-Siebold\, an expert on local agricultural history\, will highlight the history of apple culture in Maine. Hartig will discuss the role played by citizen science in tracking down heirloom apple varieties\, the importance of genetics in identifying and tracing the origins of heirloom varieties and the diversity of yeasts and bacteria that give each regional cider its unique flavor.\n\nCaf  attendees will have the opportunity to sample regional hard ciders\, to "meet the yeasts" under a microscope and even to learn how to culture their own wild yeasts.\n\nThe location of this MDI Science Caf  is the Maine Center for Biomedical Innovation at the MDI Biological Laboratory\, located at 159 Old Bar Harbor Rd in Salisbury Cove\, Maine.\n\nDoors open at 4:30 p.m. You may pre-register for this event.\n\nMDI Science Caf s are offered in fulfillment of the institution's mission to promote scientific literacy and increase public engagement with science. The popular events offer a chance to hear directly from speakers about trends in science. Short presentations delivered in everyday language are followed by lively\, informal discussion.
X-ALT-DESC;FMTTYPE=text/html:<p>Microorganisms are vital to cider-making\, and may have some secrets to share! In this experiential presentation\, Todd Little-Siebold\, Ph.D.\, a history professor at College of the Atlantic (COA) in Bar Harbor\, and Elli Hartig\, a research assistant at the MDI Biological Laboratory\, will explore the science of hard cider.</p>\n\n<p>Little-Siedbold and Hartig will discuss the elements that go into giving each cider its unique flavor and aroma\, including apples\, yeasts\, fermentation conditions\, aging practices and terroir. Little-Siebold\, an expert on local agricultural history\, will highlight the history of apple culture in Maine. Hartig will discuss the role played by citizen science in tracking down heirloom apple varieties\, the importance of genetics in identifying and tracing the origins of heirloom varieties and the diversity of yeasts and bacteria that give each regional cider its unique flavor.</p>\n\n<p>Caf&eacute\; attendees will have the opportunity to sample regional hard ciders\, to &ldquo\;meet the yeasts&rdquo\; under a microscope and even to learn how to culture their own wild yeasts.</p>\n\n<p>The location of this MDI Science Caf&eacute\; is the Maine Center for Biomedical Innovation at the MDI Biological Laboratory\, located at 159 Old Bar Harbor Rd in Salisbury Cove\, Maine.</p>\n\n<p>Doors open at 4:30 p.m. You may&nbsp\;<a href="https://www.eventbrite.com/e/apple-culture-what-microbes-can-teach-us-about-the-history-of-maine-cider-craft-tickets-54652890266" style="box-sizing: border-box\; transition: all 0.1s ease-in-out 0s\; color: rgb(0\, 142\, 191)\; text-decoration-line: none\;">pre-register</a>&nbsp\;for this event.</p>\n\n<p><a href="https://mdibl.org/events/science-cafes/" style="box-sizing: border-box\; transition: all 0.1s ease-in-out 0s\; color: rgb(0\, 142\, 191)\; text-decoration-line: none\;">MDI Science Caf&eacute\;s</a>&nbsp\;are offered in fulfillment of the institution&rsquo\;s mission to promote scientific literacy and increase public engagement with science. The popular events offer a chance to hear directly from speakers about trends in science. Short presentations delivered in everyday language are followed by lively\, informal discussion.</p>\n
LOCATION:MDI BIOLOGICAL LABORATORY\, 159 OLD BAR HARBOR RD\, SALISBURY COVE\, ME
UID:e.3061.8817
SEQUENCE:3
DTSTAMP:20260420T024513Z
URL:https://www.visitbarharbor.com/events/details/mdi-science-caf&#233;-apple-culture-what-microbes-can-teach-us-about-the-history-of-maine-cider-craft-8817
END:VEVENT

END:VCALENDAR
