BEGIN:VCALENDAR
VERSION:2.0
PRODID:-//ChamberMaster//Event Calendar 2.0//EN
METHOD:PUBLISH
X-PUBLISHED-TTL:P3D
REFRESH-INTERVAL:P3D
CALSCALE:GREGORIAN
BEGIN:VEVENT
DTSTART:20190918T163000Z
DTEND:20190918T170000Z
X-MICROSOFT-CDO-ALLDAYEVENT:FALSE
SUMMARY:MDI High School Solar Ribbon Cutting Ceremony
DESCRIPTION:MDI High School is the first high school in the state to go 100% solar. The program will feature Speaker of the House\, Sara Gideon and other Maine lawmakers involved in carrying out the Mill's administration's climate change action plan.
X-ALT-DESC;FMTTYPE=text/html:MDI High School is the first high school in the state to go 100% solar. The program will feature Speaker of the House\, Sara Gideon and other Maine lawmakers involved in carrying out the Mill&#39\;s administration&#39\;s climate change action plan.
LOCATION:MDI High School Gym
UID:e.3061.14788
SEQUENCE:3
DTSTAMP:20260419T192642Z
URL:https://www.visitbarharbor.com/events/details/mdi-high-school-solar-ribbon-cutting-ceremony-14788
END:VEVENT

END:VCALENDAR
