BEGIN:VCALENDAR
VERSION:2.0
PRODID:-//ChamberMaster//Event Calendar 2.0//EN
METHOD:PUBLISH
X-PUBLISHED-TTL:P3D
REFRESH-INTERVAL:P3D
CALSCALE:GREGORIAN
BEGIN:VEVENT
DTSTART:20180729T140000Z
DTEND:20180729T200000Z
X-MICROSOFT-CDO-ALLDAYEVENT:FALSE
SUMMARY:MDI Directions Fine Craft Show
DESCRIPTION:We will be back at MDI High School in 2018!\n\n\n\nThe Maine Craft Guild MDI Directions Fine Craft Show is often referred to as the most outstanding\, most successful\, and longest running craft show in Maine. 2018 is our 43rd annual show and it will return to the Mount Desert Island High School. Approximately 60 of Maine's finest craftspeople will fill the high school\, transforming the location into a gallery-like setting of carefully designed individual displays. Come and meet extraordinary artisans and purchase work of heirloom quality handmade here in Maine. Admission: $5 adults\; children under 18 free.
X-ALT-DESC;FMTTYPE=text/html:<span style="font-size:12px"><span style="color:rgb(29\, 33\, 41)\; font-family:helvetica\,arial\,sans-serif"><strong>We will be back at MDI High School in 2018!</strong></span><br />\n<br />\n<span style="font-family:libre franklin\,helvetica neue\,helvetica\,arial\,sans-serif">The Maine Craft Guild MDI Directions Fine Craft Show is often referred to as the most outstanding\, most successful\, and longest running craft show in Maine. 2018 is our 43rd annual show and it will return to the Mount Desert Island High School. Approximately 60 of Maine&rsquo\;s finest craftspeople will fill the high school\, transforming the location into a gallery-like setting of carefully designed individual displays. Come and meet extraordinary artisans and purchase work of heirloom quality handmade here in Maine. Admission: $5 adults\; children under 18 free.&nbsp\;</span></span>
LOCATION:Mount Desert Island High School 1081 Eagle Lake Road Bar Harbor\, ME 04609
UID:e.3061.2855
SEQUENCE:3
DTSTAMP:20260420T182821Z
URL:https://www.visitbarharbor.com/events/details/mdi-directions-fine-craft-show-07-29-2018-2855
END:VEVENT

END:VCALENDAR
