BEGIN:VCALENDAR
VERSION:2.0
PRODID:-//ChamberMaster//Event Calendar 2.0//EN
METHOD:PUBLISH
X-PUBLISHED-TTL:P3D
REFRESH-INTERVAL:P3D
CALSCALE:GREGORIAN
BEGIN:VEVENT
DTSTART;VALUE=DATE:20180807
DTEND;VALUE=DATE:20180808
TRANSP:TRANSPARENT
X-MICROSOFT-CDO-ALLDAYEVENT:TRUE
SUMMARY:MCCF 2018 Online Auction Event
DESCRIPTION:Maine Center for Coastal Fisheries will host their annual fundraising event\, taking place online throughout the entire month of August. Bid on one-of-a-kind items while helping to support local fishing communities across the state. The auction begins August 1\, 2018. To view and bid on items\, use the following link: www.biddingowl.com/coastalfisheries. \n\nMaine Center for Coastal Fisheries is offering up a variety of items\, from art and food to vacations and once-in-a-lifetime experiences. Enjoy fresh Maine seafood\, shipped right to your door\, or spend a day touring Portland?s food scene. Win a luxury vacation to Napa Valley\, purchase your very own timeshare in Orlando\, Florida\, or relax during a fall vacation on the coast of Maine. From exciting adventures\, aboard working lobster boats\, to serene spa days\, there is something for everyone. Enjoy something new\, while helping to support Maine?s communities.\n\nAll proceeds benefit Stonington-based nonprofit\, Maine Center for Coastal Fisheries. The Center?s mission is to secure a sustainable future for fisheries and fishing communities in Eastern Maine and beyond. Your contribution will help ensure Maine is a place where we can fish forever.\n\nAbout Maine Center for Coastal Fisheries:\n\nMaine Center for Coastal Fisheries is a nonprofit that works to secure a sustainable future for fisheries and fishing communities in Eastern Maine by supporting today?s fishermen\, educating future generations\, and inspiring community stakeholders to become advocates. They facilitate innovative programs which create a place where co-management of the ecosystem can be shared by fishermen\, community groups\, scientists\, and fisheries managers. The result will be an industry that can adapt and persevere\, even as climate and oceans change.
X-ALT-DESC;FMTTYPE=text/html:<p><span style="font-size:12px"><span style="color:#3A3A3A"><span style="font-family:georgia\,serif">Maine Center for Coastal Fisheries will host their annual fundraising event\, taking place online throughout the entire month of August. Bid on one-of-a-kind items while helping to support local fishing communities across the state. The auction begins August 1\, 2018. To view and bid on items\, use the following link: </span></span><span style="font-family:georgia\,serif"><a href="http://www.biddingowl.com/coastalfisheries">www.biddingowl.com/coastalfisheries</a></span><span style="color:#3A3A3A"><span style="font-family:georgia\,serif">.&nbsp\;</span></span></span></p>\n\n<p><span style="font-size:12px"><span style="color:rgb(58\, 58\, 58)\; font-family:georgia\,serif">Maine Center for Coastal Fisheries is offering up a variety of items\, from art and food to vacations and once-in-a-lifetime experiences. Enjoy fresh Maine seafood\, shipped right to your door\, or spend a day touring Portland?s food scene. Win a luxury vacation to Napa Valley\, purchase your very own timeshare in Orlando\, Florida\, or relax during a fall vacation on the coast of Maine. From exciting adventures\, aboard working lobster boats\, to serene spa days\, there is something for everyone. Enjoy something new\, while helping to support Maine?s communities.</span></span></p>\n\n<p><span style="font-size:12px"><span style="color:rgb(58\, 58\, 58)\; font-family:georgia\,serif">All proceeds benefit Stonington-based nonprofit\, Maine Center for Coastal Fisheries. The Center?s mission is to secure a sustainable future for fisheries and fishing communities in Eastern Maine and beyond. Your contribution will help ensure Maine is a place where we can fish forever.</span></span></p>\n\n<p><span style="font-size:12px"><strong><span style="color:#3B3838"><span style="font-family:georgia\,serif">About Maine Center for Coastal Fisheries</span></span></strong><strong><span style="color:#3A3A3A"><span style="font-family:georgia\,serif">:</span></span></strong><br>\n<em><span style="color:#3A3A3A"><span style="font-family:georgia\,serif">Maine Center for Coastal Fisheries is a nonprofit that works to secure a sustainable future for fisheries and fishing communities in Eastern Maine by supporting today?s fishermen\, educating future generations\, and inspiring community stakeholders to become advocates. They facilitate innovative programs which create a place where co-management of the ecosystem can be shared by fishermen\, community groups\, scientists\, and fisheries managers. The result will be an industry that can adapt and persevere\, even as climate and oceans change.&nbsp\;&nbsp\;</span></span></em></span></p>\n
LOCATION:
UID:e.3061.3405
SEQUENCE:3
DTSTAMP:20260420T165913Z
URL:https://www.visitbarharbor.com/events/details/mccf-2018-online-auction-event-08-07-2018-3405
END:VEVENT

END:VCALENDAR
