BEGIN:VCALENDAR
VERSION:2.0
PRODID:-//ChamberMaster//Event Calendar 2.0//EN
METHOD:PUBLISH
X-PUBLISHED-TTL:P3D
REFRESH-INTERVAL:P3D
CALSCALE:GREGORIAN
BEGIN:VEVENT
DTSTART:20190910T140000Z
DTEND:20190910T190000Z
X-MICROSOFT-CDO-ALLDAYEVENT:FALSE
SUMMARY:Market Basket
DESCRIPTION:With Cristy Benson. Learn the art of basketry as you create a beautiful and sturdy basket using natural and dyed reed. A variety of dyed reeds and walnut stain will be available to give you the chance to play with patterns and personalize you final creation. Ages 12 and up.
X-ALT-DESC;FMTTYPE=text/html:With Cristy Benson. Learn the art of basketry as you create a beautiful and sturdy basket using natural and dyed reed. A variety of dyed reeds and walnut stain will be available to give you the chance to play with patterns and personalize you final creation. Ages 12 and up.
LOCATION:ArtWaves\, 1345-A State Highway 102\, Bar Harbor.
UID:e.3061.14706
SEQUENCE:3
DTSTAMP:20260419T192513Z
URL:https://www.visitbarharbor.com/events/details/market-basket-09-10-2019-14706
END:VEVENT

END:VCALENDAR
