BEGIN:VCALENDAR
VERSION:2.0
PRODID:-//ChamberMaster//Event Calendar 2.0//EN
METHOD:PUBLISH
X-PUBLISHED-TTL:P3D
REFRESH-INTERVAL:P3D
CALSCALE:GREGORIAN
BEGIN:VEVENT
DTSTART:20180524T210000Z
DTEND:20180524T230000Z
X-MICROSOFT-CDO-ALLDAYEVENT:FALSE
SUMMARY:Marine Drawing & Painting at ArtWaves
DESCRIPTION:Marine Drawing and Painting with Art Paine\n\nThis is an introductory course on all aspects of marine painting. All levels welcome\, from beginners just putting their toes in the water\, to accomplished painters who want to establish a new watershed. All media will be discussed\, from pencil drawing thru water and oil paints.\n\nEvery Thursday night in May from 5-7 PM\n\n$120\n\nregister on-line: https://www.artwavesmdi.org/product-page/art-s-waves-marine-drawing-painting
X-ALT-DESC;FMTTYPE=text/html:<span style="color:rgb(34\, 34\, 34)\; font-family:arial\,verdana\,sans-serif\; font-size:12px">Marine Drawing and Painting with Art Paine</span><br />\n<span style="color:rgb(34\, 34\, 34)\; font-family:arial\,verdana\,sans-serif\; font-size:12px">This is an introductory course on all aspects of marine painting. All levels welcome\, from beginners just putting their toes in the water\, to accomplished painters who want to establish a new watershed. All media will be discussed\, from pencil drawing thru water and oil paints.</span><br />\n<span style="color:rgb(34\, 34\, 34)\; font-family:arial\,verdana\,sans-serif\; font-size:12px">Every Thursday night in May from 5-7 PM</span><br />\n<span style="color:rgb(34\, 34\, 34)\; font-family:arial\,verdana\,sans-serif\; font-size:12px">$120</span><br />\n<span style="color:rgb(34\, 34\, 34)\; font-family:arial\,verdana\,sans-serif\; font-size:12px">register on-line: https://www.artwavesmdi.org/product-page/art-s-waves-marine-drawing-painting</span>
LOCATION:ArtWaves 1345A State Highway 102\, Bar Harbor\, ME 04609
UID:e.3061.799
SEQUENCE:3
DTSTAMP:20260420T233253Z
URL:https://www.visitbarharbor.com/events/details/marine-drawing-painting-at-artwaves-05-24-2018-799
END:VEVENT

END:VCALENDAR
