BEGIN:VCALENDAR
VERSION:2.0
PRODID:-//ChamberMaster//Event Calendar 2.0//EN
METHOD:PUBLISH
X-PUBLISHED-TTL:P3D
REFRESH-INTERVAL:P3D
CALSCALE:GREGORIAN
BEGIN:VEVENT
DTSTART:20180826T190000Z
DTEND:20180826T203000Z
X-MICROSOFT-CDO-ALLDAYEVENT:FALSE
SUMMARY:Mapas\, tapas with a Maine twist.
DESCRIPTION:Well\, they aren't exactly tapas so we are calling them Mapas. Use our Mapas to guide you through entertaining or just a snack for yourself. You will learn appetizers or snacks and  a dessert bite using Maine ingredients like lobster\, seafood\, blueberries and seasonal vegetables. Maine appetizers\, it isn't tapas  it's MAPAS. Yes\, you get to taste them and maybe help. 1   hrs. $50.00
X-ALT-DESC;FMTTYPE=text/html:<span style="font-family:calibri\,sans-serif\; font-size:10pt">Well\, they aren&rsquo\;t exactly tapas so we are calling them Mapas. Use our Mapas to guide you through entertaining or just a snack for yourself. You will learn appetizers or snacks and&nbsp\; a dessert bite using Maine ingredients like lobster\, seafood\, blueberries and seasonal vegetables. Maine appetizers\, it isn&rsquo\;t tapas&nbsp\; it&rsquo\;s MAPAS. Yes\, you get to taste them and maybe help. 1 &frac12\; hrs. $50.00<br />\n<!--[if !supportLineBreakNewLine]--><br />\n<!--[endif]--></span>
LOCATION:19 Rodick Street\, Bar Harbor\, ME 04609
UID:e.3061.698
SEQUENCE:3
DTSTAMP:20260420T170018Z
URL:https://www.visitbarharbor.com/events/details/mapas-tapas-with-a-maine-twist-08-26-2018-698
END:VEVENT

END:VCALENDAR
