BEGIN:VCALENDAR
VERSION:2.0
PRODID:-//ChamberMaster//Event Calendar 2.0//EN
METHOD:PUBLISH
X-PUBLISHED-TTL:P3D
REFRESH-INTERVAL:P3D
CALSCALE:GREGORIAN
BEGIN:VEVENT
DTSTART:20191008T133000Z
DTEND:20191008T160000Z
X-MICROSOFT-CDO-ALLDAYEVENT:FALSE
SUMMARY:Mandalas
DESCRIPTION:with Sue Aripotch. Learn to create symmetrical designs using drawing tools you'll remember\, probably using them in a new way. After the designs are drawn\, students will learn about color theory and ways to use color to convey feeling. All materials supplied\, but feel free to bring your favorite coloring implements. No artistic experience necessary- just bring who you are.
X-ALT-DESC;FMTTYPE=text/html:with Sue Aripotch. Learn to create symmetrical designs using drawing tools you&rsquo\;ll remember\, probably using them in a new way. After the designs are drawn\, students will learn about color theory and ways to use color to convey feeling. All materials supplied\, but feel free to bring your favorite coloring implements. No artistic experience necessary- just bring who you are.&nbsp\;
LOCATION:ArtWaves\, 1345-A State Highway 102\, Bar Harbor.
UID:e.3061.15233
SEQUENCE:3
DTSTAMP:20260419T155226Z
URL:https://www.visitbarharbor.com/events/details/mandalas-10-08-2019-15233
END:VEVENT

END:VCALENDAR
