BEGIN:VCALENDAR
VERSION:2.0
PRODID:-//ChamberMaster//Event Calendar 2.0//EN
METHOD:PUBLISH
X-PUBLISHED-TTL:P3D
REFRESH-INTERVAL:P3D
CALSCALE:GREGORIAN
BEGIN:VEVENT
DTSTART:20181221T200000Z
DTEND:20181221T220000Z
X-MICROSOFT-CDO-ALLDAYEVENT:FALSE
SUMMARY:Making the Most of Your Press Release
DESCRIPTION:Every Business wants publicity. Our workshop will take a look at how to do so generally and then.... It's all about press releases! These are something that we use all the time here\, but aren't really that confident about how to do it\, so .. Hey Presto! Lets get Melinda Rice Schoon to teach us! Melinda will cover contents\, customization for different media outlets\, who/when to send it to and the relationship between the press release and today's social media world. Melinda is the Program Director at Jesup Memorial Library. She joined the Jesup after a long career in journalism (starting with her high school newspaper) that included work as a newspaper reporter and editor in Texas\, New York and the Washington\, D.C. area\; and freelance work for newspapers and magazines locally and nationwide. She is the author of a travel book and four novels for middle-graders\, and has won awards for reporting\, writing\, editing and photography. Do you have specific questions concerning Press Releases that you'd like answered? Let us know and we'll try to include answers at the workshop Join us for a networking Happy Hour after the workshop!
X-ALT-DESC;FMTTYPE=text/html:Every Business wants publicity. Our workshop will take a look at how to do so generally and then.... It&#39\;s all about press releases! These are something that we use all the time here\, but aren&rsquo\;t really that confident about how to do it\, so&hellip\;.. Hey Presto! Lets get Melinda Rice Schoon to teach us! Melinda will cover contents\, customization for different media outlets\, who/when to send it to and the relationship between the press release and today&#39\;s social media world. Melinda is the Program Director at Jesup Memorial Library. She joined the Jesup after a long career in journalism (starting with her high school newspaper) that included work as a newspaper reporter and editor in Texas\, New York and the Washington\, D.C. area\; and freelance work for newspapers and magazines locally and nationwide. She is the author of a travel book and four novels for middle-graders\, and has won awards for reporting\, writing\, editing and photography. Do you have specific questions concerning Press Releases that you&rsquo\;d like answered? Let us know and we&rsquo\;ll try to include answers at the workshop Join us for a networking Happy Hour after the workshop!
LOCATION:Anchorspace Bar Harbor or Online
UID:e.3061.4787
SEQUENCE:3
DTSTAMP:20260420T100304Z
URL:https://www.visitbarharbor.com/events/details/making-the-most-of-your-press-release-4787
END:VEVENT

END:VCALENDAR
