BEGIN:VCALENDAR
VERSION:2.0
PRODID:-//ChamberMaster//Event Calendar 2.0//EN
METHOD:PUBLISH
X-PUBLISHED-TTL:P3D
REFRESH-INTERVAL:P3D
CALSCALE:GREGORIAN
BEGIN:VEVENT
DTSTART:20190926T223000Z
DTEND:20190927T000000Z
X-MICROSOFT-CDO-ALLDAYEVENT:FALSE
SUMMARY:Making Pop-Up Star Cards
DESCRIPTION:Stars will pop up in celebration of Acadia Night Sky festival in a greeting card workshop with local paper artist Sherry Rasmussen at ART on West\, 78 West Street\, Bar Harbor on Thursday\, September 26\, 6:30 to 8 pm. Ages 12 and over. $10 fee is donated to the festival. Call (207) 288-9428 to reserve. Full festival schedule: http://www.acadianightskyfestival.org
X-ALT-DESC;FMTTYPE=text/html:<p>Stars will pop up in celebration of Acadia Night Sky festival in a greeting card workshop with local paper artist Sherry Rasmussen at ART on West\, 78 West Street\, Bar Harbor on Thursday\, September 26\, 6:30 to 8 pm. Ages 12 and over. $10 fee is donated to the festival. Call <span class="gc-cs-link" id="gc-number-0" title="Call with Google Voice">(207) 288-9428</span> to reserve. Full festival schedule: http://www.acadianightskyfestival.org</p>\n\n<div>&nbsp\;</div>\n
LOCATION:ART on West\, 78 West Street\, Bar Harbor
UID:e.3061.14797
SEQUENCE:3
DTSTAMP:20260419T173106Z
URL:https://www.visitbarharbor.com/events/details/making-pop-up-star-cards-14797
END:VEVENT

END:VCALENDAR
