BEGIN:VCALENDAR
VERSION:2.0
PRODID:-//ChamberMaster//Event Calendar 2.0//EN
METHOD:PUBLISH
X-PUBLISHED-TTL:P3D
REFRESH-INTERVAL:P3D
CALSCALE:GREGORIAN
BEGIN:VEVENT
DTSTART:20190808T133000Z
DTEND:20190808T153000Z
X-MICROSOFT-CDO-ALLDAYEVENT:FALSE
SUMMARY:Make n Take Stained Glass Mosaic Workshop
DESCRIPTION:Stained Glass Mosaic - Birches and Beyond\n\nThere's something magical about a birch grove- maybe the sense of light\, the texture or the distinctive black and white patterns that translates so well in stained glass.\n\n While birches are good motif to learn to cut\, grind and grout glass\, feel free to do your own design\, we can help you use a photo as a pattern or use one of our patterns.  \n\nArtWaves Kaleidoscope Studio supplies All the gear you need\, step by step instructions\, and select from our huge colorful selection of glass\, shells\,  pottery\, tiles and stones to design with. No experience necessary.\n\nFun inevitable-  all ages- 8 and under require a double digit companion.make and take framed 5 x 7 mosaic!\n\n$35/ 25 for members  $145 for a table of up to 6. Thursday 6 to 8pm\n\nAugust 8\, 2019\n\n\n\n4-16 students
X-ALT-DESC;FMTTYPE=text/html:<span style="font-family:tahoma\,sans-serif"><span style="color:#444444">Stained Glass Mosaic - Birches and Beyond</span></span><br />\n<span style="font-family:tahoma\,sans-serif"><span style="color:#444444">There&rsquo\;s something magical about a birch grove- maybe the sense of light\, the texture or the distinctive black and white patterns that translates so well in stained glass.</span></span><br />\n<span style="font-family:tahoma\,sans-serif"><span style="color:#444444">&nbsp\;While birches are good motif&nbsp\;to learn to cut\, grind and grout glass\,&nbsp\;feel free to do your own design\, we can help you use a photo as a pattern or use one of our patterns.&nbsp\;&nbsp\;</span></span><br />\n<span style="font-family:tahoma\,sans-serif"><span style="color:#444444">ArtWaves Kaleidoscope Studio supplies All the gear you need\, step by step instructions\, and select from our huge colorful selection of glass\, shells\,&nbsp\; pottery\, tiles and stones to design with.&nbsp\;No experience necessary.<br />\nFun inevitable-&nbsp\; all ages- 8 and under require a double digit companion.make and take framed 5 x 7 mosaic!<br />\n$35/ 25 for members&nbsp\; $145 for a table of up to 6. Thursday 6 to 8pm</span></span><br />\n<span style="font-family:tahoma\,sans-serif"><span style="color:#444444">August 8\, 2019</span></span><br />\n<br />\n<span style="font-family:tahoma\,sans-serif"><span style="color:#444444">4-16 students</span></span>
LOCATION:ArttWaves 1345 state highway 102 Town Hill\, Bar Harbor
UID:e.3061.4731
SEQUENCE:3
DTSTAMP:20260419T211017Z
URL:https://www.visitbarharbor.com/events/details/make-n-take-stained-glass-mosaic-workshop-4731
END:VEVENT

END:VCALENDAR
