BEGIN:VCALENDAR
VERSION:2.0
PRODID:-//ChamberMaster//Event Calendar 2.0//EN
METHOD:PUBLISH
X-PUBLISHED-TTL:P3D
REFRESH-INTERVAL:P3D
CALSCALE:GREGORIAN
BEGIN:VEVENT
DTSTART:20190815T213000Z
DTEND:20190816T003000Z
X-MICROSOFT-CDO-ALLDAYEVENT:FALSE
SUMMARY:Maine Seacoast Mission Sunbeam Award Gala
DESCRIPTION:The purpose of the Maine Seacoast Mission's Sunbeam Award Gala\, held this year on Thursday\, August 15th\, is twofold: it is the Mission's signature fundraiser\, and it provides the Mission with an opportunity to publicy acknowledge individuals who have taken steps to improve the social\, cultural\, financial and/or educational experience of those living on the islands or along the Downeast coast. The Gala is critical to raising money for the Mission's many social service programs.
X-ALT-DESC;FMTTYPE=text/html:The purpose of the Maine Seacoast Mission&#39\;s Sunbeam Award Gala\, held this year on Thursday\, August 15th\, is twofold: it is the Mission&#39\;s signature fundraiser\, and it provides the Mission with an opportunity to publicy acknowledge individuals who have taken steps to improve the social\, cultural\, financial and/or educational experience of those living on the islands or along the Downeast coast. The Gala is critical to raising money for the Mission&#39\;s many social service programs.
LOCATION:The Bar Harbor Club 111 West Street Bar Harbor\, ME
UID:e.3061.5367
SEQUENCE:3
DTSTAMP:20260419T211927Z
URL:https://www.visitbarharbor.com/events/details/maine-seacoast-mission-sunbeam-award-gala-5367
END:VEVENT

END:VCALENDAR
