BEGIN:VCALENDAR
VERSION:2.0
PRODID:-//ChamberMaster//Event Calendar 2.0//EN
METHOD:PUBLISH
X-PUBLISHED-TTL:P3D
REFRESH-INTERVAL:P3D
CALSCALE:GREGORIAN
BEGIN:VEVENT
DTSTART:20180817T220000Z
DTEND:20180818T010000Z
X-MICROSOFT-CDO-ALLDAYEVENT:FALSE
SUMMARY:Maine Seacoast Mission's 15th Annual Sunbeam Award Gala
DESCRIPTION:This year's Sunbeam Award Gala will be held at he Bar Harbor Club on West Street\, on Friday\, August 17th from 6-9PM. Tickets are $150 and include cocktails\, appetizers and dinner. This year we are honoring Marjorie Withers of the Community Caring Collaborative and The Maine Community Foundation's Hancock and Washington County Funds. Please contact Anna E. Silver for more information at asilver@seacoastmission.org or 801-6011.
X-ALT-DESC;FMTTYPE=text/html:<span style="color:rgb(34\, 34\, 34)\; font-family:arial\,verdana\,sans-serif\; font-size:12px">This year&#39\;s Sunbeam Award Gala will be held at he Bar Harbor Club on West Street\, on Friday\, August 17th from 6-9PM. Tickets are $150 and include cocktails\, appetizers and dinner. This year we are honoring Marjorie Withers of the Community Caring Collaborative and The Maine Community Foundation&#39\;s Hancock and Washington County Funds. Please contact Anna E. Silver for more information at asilver@seacoastmission.org or 801-6011.</span>
LOCATION:Bar Harbor Club\, Bar Harbor
UID:e.3061.848
SEQUENCE:3
DTSTAMP:20260420T170647Z
URL:https://www.visitbarharbor.com/events/details/maine-seacoast-mission-s-15th-annual-sunbeam-award-gala-848
END:VEVENT

END:VCALENDAR
