BEGIN:VCALENDAR
VERSION:2.0
PRODID:-//ChamberMaster//Event Calendar 2.0//EN
METHOD:PUBLISH
X-PUBLISHED-TTL:P3D
REFRESH-INTERVAL:P3D
CALSCALE:GREGORIAN
BEGIN:VEVENT
DTSTART:20181207T223000Z
DTEND:20181208T003000Z
X-MICROSOFT-CDO-ALLDAYEVENT:FALSE
SUMMARY:Maine Seacoast Mission Christmas Open House and Wreath Silent Auction
DESCRIPTION:Please join at the Colket Center\, 127 West St. for an evening of refreshments\, music\, and the chance to take home a beautiful holiday wreath. For more information please contact Anna Silver at asilver@seacoastmission.org or 801.6011.
X-ALT-DESC;FMTTYPE=text/html:Please join at the Colket Center\, 127 West St. for an evening of refreshments\, music\, and the chance to take home a beautiful holiday wreath. For more information please contact Anna Silver at asilver@seacoastmission.org or 801.6011.
LOCATION:Colket Center\, 127 West Street\, Bar Harbor
UID:e.3061.3970
SEQUENCE:3
DTSTAMP:20260420T115045Z
URL:https://www.visitbarharbor.com/events/details/maine-seacoast-mission-christmas-open-house-and-wreath-silent-auction-3970
END:VEVENT

END:VCALENDAR
