BEGIN:VCALENDAR
VERSION:2.0
PRODID:-//ChamberMaster//Event Calendar 2.0//EN
METHOD:PUBLISH
X-PUBLISHED-TTL:P3D
REFRESH-INTERVAL:P3D
CALSCALE:GREGORIAN
BEGIN:VEVENT
DTSTART:20190815T213000Z
DTEND:20190815T230000Z
X-MICROSOFT-CDO-ALLDAYEVENT:FALSE
SUMMARY:Maine Public’s Tell Me More Tour Comes to Bar Harbor
DESCRIPTION:The Maine Public News Team is travelling across Maine to hear what listeners and viewers have to say this summer. The next stop on their road trip will take deputy news director Susan Sharon and producer Jennifer Mitchell to the Abbe Museum in Bar Harbor on Thursday\, August 15. The Tell Me More tour brings news personalities to communities across the state to find out what is going on in each community\, what are developments worthy of celebrating and what types of news stories and coverage are important to each community. "We can't fulfill our vision to tell the whole Maine story without you\," said Mark Vogelzang\, CEO and President of Maine Public. "The goal of our tour is to help us learn how Maine Public can serve your community better and how to keep you best informed." All Tell Me More tour stops are free\, and the public is welcome and encouraged to attend. What: Maine Public Tell Me More Tour Where: Abbe Museum\, 26 Mt Desert St\, Bar Harbor\, Maine When: 5:30-7:00pm\, Thursday\, August 15 Who: Susan Sharon and Jennifer Mitchell The full Tell Me More Tour Schedule and details can be found at mainepublic.org.
X-ALT-DESC;FMTTYPE=text/html:The Maine Public News Team is travelling across Maine to hear what listeners and viewers have to say this summer. The next stop on their road trip will take deputy news director Susan Sharon and producer Jennifer Mitchell to the Abbe Museum in Bar Harbor on Thursday\, August 15. The Tell Me More tour brings news personalities to communities across the state to find out what is going on in each community\, what are developments worthy of celebrating and what types of news stories and coverage are important to each community. &ldquo\;We can&rsquo\;t fulfill our vision to tell the whole Maine story without you\,&rdquo\; said Mark Vogelzang\, CEO and President of Maine Public. &ldquo\;The goal of our tour is to help us learn how Maine Public can serve your community better and how to keep you best informed.&rdquo\; All Tell Me More tour stops are free\, and the public is welcome and encouraged to attend. What: Maine Public Tell Me More Tour Where: Abbe Museum\, 26 Mt Desert St\, Bar Harbor\, Maine When: 5:30-7:00pm\, Thursday\, August 15 Who: Susan Sharon and Jennifer Mitchell The full Tell Me More Tour Schedule and details can be found at mainepublic.org.
LOCATION:Abbe Museum\, 26 Mt Desert St\, Bar Harbor\, ME
UID:e.3061.14409
SEQUENCE:3
DTSTAMP:20260419T193937Z
URL:https://www.visitbarharbor.com/events/details/maine-public-s-tell-me-more-tour-comes-to-bar-harbor-14409
END:VEVENT

END:VCALENDAR
