BEGIN:VCALENDAR
VERSION:2.0
PRODID:-//ChamberMaster//Event Calendar 2.0//EN
METHOD:PUBLISH
X-PUBLISHED-TTL:P3D
REFRESH-INTERVAL:P3D
CALSCALE:GREGORIAN
BEGIN:VEVENT
DTSTART:20190812T170000Z
DTEND:20190812T183000Z
X-MICROSOFT-CDO-ALLDAYEVENT:FALSE
SUMMARY:Maine Historic Desserts
DESCRIPTION:Learn about historic and new desserts using seasonal foods when possible. Afraid of pie crusts? Not anymore. You will learn to make a Blueberry Crumble pie from scratch with little effort\, a historic Maine cookie\, a sorbet and a simple cooling dessert with a historic past. All in an hour and you get to taste everything!  Come ready to learn and eat. 50.00
X-ALT-DESC;FMTTYPE=text/html:Learn about historic and new desserts using seasonal foods when possible. Afraid of pie crusts? Not anymore. You will learn to make a Blueberry Crumble pie from scratch with little effort\, a historic Maine cookie\, a sorbet and a simple cooling dessert with a historic past. All in an hour and you get to taste everything!&nbsp\; Come ready to learn and eat. 50.00
LOCATION:Ambrosia Cooking School 19 Rodick Street Bar Harbor\, Maine 04609
UID:e.3061.10676
SEQUENCE:3
DTSTAMP:20260419T192841Z
URL:https://www.visitbarharbor.com/events/details/maine-historic-desserts-08-12-2019-10676
END:VEVENT

END:VCALENDAR
