BEGIN:VCALENDAR
VERSION:2.0
PRODID:-//ChamberMaster//Event Calendar 2.0//EN
METHOD:PUBLISH
X-PUBLISHED-TTL:P3D
REFRESH-INTERVAL:P3D
CALSCALE:GREGORIAN
BEGIN:VEVENT
DTSTART:20181018T230000Z
DTEND:20181019T000000Z
X-MICROSOFT-CDO-ALLDAYEVENT:FALSE
SUMMARY:Maine Coast Sea Vegetables Talk
DESCRIPTION:Join amateur chef and naturalist Kara Ibarguen from Maine Sea Coast Vegetables at the Jesup Memorial Library on Thursday\, Oct. 18 at 7 p.m. to learn about the sea vegetables that are grown off the Maine coast. During this family-friendly talk\, Ibarguen will talk about sea vegetables and will also show how you to prepare wildly harvested sea vegetables.\n\n \n\nIbarguen has been the "Kelp Krunch Baker" at Maine Coast Sea Vegetables for the last five years. She also works with schools and other institutions to introduce people of all ages to the health benefits and deliciousness of adding sea vegetables to their diet.  \n\n \n\nFor more information on this talk\, contact the Jesup at 207-288-4245 or mrice@jesuplibrary.org.
X-ALT-DESC;FMTTYPE=text/html:<span style="font-family:times new roman\,serif"><span style="font-size:14.0pt">Join amateur chef and naturalist Kara Ibarguen from Maine Sea Coast Vegetables at the Jesup Memorial Library on Thursday\, Oct. 18 at 7 p.m. to learn about the sea vegetables that are grown off the Maine coast. During this family-friendly talk\, Ibarguen will talk about sea vegetables and will also show how you to prepare wildly harvested sea vegetables.</span></span><br />\n&nbsp\;<br />\n<span style="font-family:times new roman\,serif"><span style="font-size:14.0pt">Ibarguen has been the &ldquo\;Kelp Krunch Baker&rdquo\; at Maine Coast Sea Vegetables for the last five years. She also works with schools and other institutions to introduce people of all ages to the health benefits and deliciousness of adding sea vegetables to their diet.&nbsp\; </span></span><br />\n&nbsp\;<br />\n<span style="font-family:times new roman\,serif"><span style="font-size:14.0pt"><span>For more information on this talk\, contact the Jesup at <span class="gc-cs-link" id="gc-number-0" title="Call with Google Voice">207-288-4245</span> or </span><a href="mailto:mrice@jesuplibrary.org">mrice@jesuplibrary.org</a></span>. </span>
LOCATION:Jesup Memorial Library\, 34 Mt. Desert St.\, Bar Harbor\, ME 04609
UID:e.3061.3956
SEQUENCE:3
DTSTAMP:20260420T132235Z
URL:https://www.visitbarharbor.com/events/details/maine-coast-sea-vegetables-talk-3956
END:VEVENT

END:VCALENDAR
