BEGIN:VCALENDAR
VERSION:2.0
PRODID:-//ChamberMaster//Event Calendar 2.0//EN
METHOD:PUBLISH
X-PUBLISHED-TTL:P3D
REFRESH-INTERVAL:P3D
CALSCALE:GREGORIAN
BEGIN:VEVENT
DTSTART:20190420T120000Z
DTEND:20190420T191500Z
X-MICROSOFT-CDO-ALLDAYEVENT:FALSE
SUMMARY:Maine Appalachian Trail Club to Hold Annual Spring Meeting
DESCRIPTION:The Maine Appalachian Trail Club is inviting members and the general public to attend its annual spring meeting to commence the 2019 trail hiking season. The free event will be held on Saturday\, April 20 at Bates College in Lewiston. The meeting will include an overview of news from the Appalachian Trail Conservancy and a series of interactive workshops led by club members. The keynote speaker will be Bob Duchesne\, a columnist\, author and former member of the Maine House of Representatives who currently serves on the Maine Board of Environmental Protection. Planned activities include:   News from the Appalachian Trail Conservancy with Claire Polfus   Discussion on the successes of the Maine Appalachian Trail Land Trust with executive director Simon Rucker   A question and answer session on the MATC   Campsite maintainers meeting with Laura Flight   Corridor monitoring workshop with longtime MATC volunteer Dave Field   Trail maintenance workshop with MATC President Lester Kenway The workshops will provide an opportunity to meet and learn from the many experienced\, dedicated volunteers who maintain the Maine corridor of the Appalachian Trail. All are free and open to members of the public. WHAT: Maine Appalachian Trail Club Annual Spring Meeting WHEN: Saturday\, April 20\, 2019 from 8 a.m.   3:15 p.m. WHERE: Pettengill Hall\, Bates College 4 Andrews Road\, Lewiston\, ME 04240 WHO: Maine Appalachian Trail Club RSVP: RSVPs are encouraged by emailing info@matc.org FMI: www.matc.org
X-ALT-DESC;FMTTYPE=text/html:The Maine Appalachian Trail Club is inviting members and the general public to attend its annual spring meeting to commence the 2019 trail hiking season. The free event will be held on Saturday\, April 20 at Bates College in Lewiston. The meeting will include an overview of news from the Appalachian Trail Conservancy and a series of interactive workshops led by club members. The keynote speaker will be Bob Duchesne\, a columnist\, author and former member of the Maine House of Representatives who currently serves on the Maine Board of Environmental Protection. Planned activities include: &bull\; News from the Appalachian Trail Conservancy with Claire Polfus &bull\; Discussion on the successes of the Maine Appalachian Trail Land Trust with executive director Simon Rucker &bull\; A question and answer session on the MATC &bull\; Campsite maintainers meeting with Laura Flight &bull\; Corridor monitoring workshop with longtime MATC volunteer Dave Field &bull\; Trail maintenance workshop with MATC President Lester Kenway The workshops will provide an opportunity to meet and learn from the many experienced\, dedicated volunteers who maintain the Maine corridor of the Appalachian Trail. All are free and open to members of the public. WHAT: Maine Appalachian Trail Club Annual Spring Meeting WHEN: Saturday\, April 20\, 2019 from 8 a.m. &ndash\; 3:15 p.m. WHERE: Pettengill Hall\, Bates College 4 Andrews Road\, Lewiston\, ME 04240 WHO: Maine Appalachian Trail Club RSVP: RSVPs are encouraged by emailing info@matc.org FMI: www.matc.org
LOCATION:Pettengill Hall\, Bates College 4 Andrews Road\, Lewiston\, ME 04240
UID:e.3061.5454
SEQUENCE:3
DTSTAMP:20260420T024327Z
URL:https://www.visitbarharbor.com/events/details/maine-appalachian-trail-club-to-hold-annual-spring-meeting-5454
END:VEVENT

END:VCALENDAR
