BEGIN:VCALENDAR
VERSION:2.0
PRODID:-//ChamberMaster//Event Calendar 2.0//EN
METHOD:PUBLISH
X-PUBLISHED-TTL:P3D
REFRESH-INTERVAL:P3D
CALSCALE:GREGORIAN
BEGIN:VEVENT
DTSTART:20190130T223000Z
DTEND:20190131T000000Z
X-MICROSOFT-CDO-ALLDAYEVENT:FALSE
SUMMARY:Maine AllCare Talk
DESCRIPTION:Come to a presentation by the MDI/Ellsworth chapter of Maine AllCare on the movement to establish a publicly funded healthcare system or all Maine residents. Maine AllCare\, a nonprofit\, non-partisan organization established in 2010\, advocates that healthcare\, a basic necessity\, be treated as a public good\, since it is fundamental to our well-being as individuals and as a democratic nation. For more information\, please visit www.maineallcare.org.
X-ALT-DESC;FMTTYPE=text/html:Come to a presentation by the MDI/Ellsworth chapter of Maine AllCare on the movement to establish a publicly funded healthcare system or all Maine residents. Maine AllCare\, a nonprofit\, non-partisan organization established in 2010\, advocates that healthcare\, a basic necessity\, be treated as a public good\, since it is fundamental to our well-being as individuals and as a democratic nation. For more information\, please visit www.maineallcare.org.
LOCATION:Southwest Harbor Public Library
UID:e.3061.4837
SEQUENCE:3
DTSTAMP:20260420T081448Z
URL:https://www.visitbarharbor.com/events/details/maine-allcare-talk-4837
END:VEVENT

END:VCALENDAR
