BEGIN:VCALENDAR
VERSION:2.0
PRODID:-//ChamberMaster//Event Calendar 2.0//EN
METHOD:PUBLISH
X-PUBLISHED-TTL:P3D
REFRESH-INTERVAL:P3D
CALSCALE:GREGORIAN
BEGIN:VEVENT
DTSTART:20180626T213000Z
DTEND:20180626T230000Z
X-MICROSOFT-CDO-ALLDAYEVENT:FALSE
SUMMARY:Lyme Disease Talk with Emily Bracale
DESCRIPTION:Emily Bracale has been a Lyme awareness advocate since 2009 when first diagnosed with Lyme disease and co-infections. Her educational art exhibit and book by the same name\, In the Lyme-Light: Portraits of Illness and Healing have helped raise awareness of Lyme\, giving voice to what thousands of other patient have experienced. She is a graduate of the Interlochen Arts Academy and College of the Atlantic\, with a B.A. in Human Ecology.
X-ALT-DESC;FMTTYPE=text/html:Emily Bracale has been a Lyme awareness advocate since 2009 when first diagnosed with Lyme disease and co-infections. Her educational art exhibit and book by the same name\, In the Lyme-Light: Portraits of Illness and Healing have helped raise awareness of Lyme\, giving voice to what thousands of other patient have experienced. She is a graduate of the Interlochen Arts Academy and College of the Atlantic\, with a B.A. in Human Ecology.
LOCATION:Southwest Harbor Public Library
UID:e.3061.2161
SEQUENCE:3
DTSTAMP:20260420T195823Z
URL:https://www.visitbarharbor.com/events/details/lyme-disease-talk-with-emily-bracale-2161
END:VEVENT

END:VCALENDAR
