BEGIN:VCALENDAR
VERSION:2.0
PRODID:-//ChamberMaster//Event Calendar 2.0//EN
METHOD:PUBLISH
X-PUBLISHED-TTL:P3D
REFRESH-INTERVAL:P3D
CALSCALE:GREGORIAN
BEGIN:VEVENT
DTSTART:20190927T163000Z
DTEND:20190927T173000Z
X-MICROSOFT-CDO-ALLDAYEVENT:FALSE
SUMMARY:Lunch & Learn: One Fish\, Two Fish\, Old Fish\, New Fish
DESCRIPTION:Some fish are skinny. Some are fat. Some travel far\, and some stay near. Join us as we unlock some of the mysteries even Dr. Seuss couldn't unravel. We explore morphometric body shape\, age\, diet\, and genetics in this presentation about one of our flagship programs chasing Atlantic cod and other groundfish in the Eastern Gulf of Maine. Learn how area fishermen contribute to research and participate in sampling in an effort to inform fisheries management. Pack a lunch and join us for this FREE talk.
X-ALT-DESC;FMTTYPE=text/html:<span style="font-family:georgia\,serif"><span style="font-size:11.0pt">Some fish are skinny. Some are fat. Some travel far\, and some stay near. Join us as we unlock some of the mysteries even Dr. Seuss couldn&rsquo\;t unravel. We explore morphometric body shape\, age\, diet\, and genetics in this presentation about one of our flagship programs chasing Atlantic cod and other groundfish in the Eastern Gulf of Maine. Learn how area fishermen contribute to research and participate in sampling in an effort to inform fisheries management. Pack a lunch and join us for this FREE talk.&nbsp\;</span></span>
LOCATION:Maine Center for Coastal Fisheries 13 Atlantic Avenue\, Stonington
UID:e.3061.14671
SEQUENCE:3
DTSTAMP:20260419T173148Z
URL:https://www.visitbarharbor.com/events/details/lunch-learn-one-fish-two-fish-old-fish-new-fish-14671
END:VEVENT

END:VCALENDAR
