BEGIN:VCALENDAR
VERSION:2.0
PRODID:-//ChamberMaster//Event Calendar 2.0//EN
METHOD:PUBLISH
X-PUBLISHED-TTL:P3D
REFRESH-INTERVAL:P3D
CALSCALE:GREGORIAN
BEGIN:VEVENT
DTSTART:20190726T163000Z
DTEND:20190726T173000Z
X-MICROSOFT-CDO-ALLDAYEVENT:FALSE
SUMMARY:Lunch & Learn - EM3C: Alphanumeric Soup
DESCRIPTION:Pack a lunch and join MCCF's Paul Anderson and Dr. Carla Guenther for a FREE discussion as they talk about a new program - EM3C. \n\n \n\nAn ecosystem based approach to fisheries management is a compelling academic idea\, and one that has become mandated for federally managed fisheries. Putting concept to action\, or transitioning from single species to ecosystem management\, proves to be challenging. It is fraught with complexity if we try to manage everything in the ecosystem\, or so simplified regulators run the risk of overfishing resources we've worked hard to understand and manage well. In a fishery dependent economy that is dependent on a single species\, we must ask what else is out there. Climate change brings considerable change to eastern Maine's fisheries. What could an ecosystem approach to fisheries science and management look like in the Gulf of Maine?
X-ALT-DESC;FMTTYPE=text/html:<span style="color:#1C1E21"><span style="font-family:inherit\,serif"><span style="font-size:9.0pt">Pack a lunch and join MCCF&#39\;s Paul Anderson and Dr. Carla Guenther for a FREE discussion as they talk about a new program - EM3C. </span></span></span><br />\n&nbsp\;<br />\n<span style="color:#1C1E21"><span style="font-family:inherit\,serif"><span style="font-size:9.0pt">An ecosystem based approach to fisheries management is a compelling academic idea\, and one that has become mandated for federally managed fisheries. Putting concept to action\, or transitioning from single species to ecosystem management\, proves to be challenging. It is fraught with complexity if we try to manage everything in the ecosystem\, or so simplified regulators run the risk of overfishing resources we&rsquo\;ve worked hard to understand and manage well. In a fishery dependent economy that is dependent on a single species\, we must ask what else is out there. Climate change brings considerable change to eastern Maine&rsquo\;s fisheries. What could an ecosystem approach to fisheries science and management look like in the Gulf of Maine?</span></span></span>
LOCATION:Maine Center for Coastal Fisheries - 13 Atlantic Ave\, Stonington\, ME
UID:e.3061.12933
SEQUENCE:3
DTSTAMP:20260419T225822Z
URL:https://www.visitbarharbor.com/events/details/lunch-learn-em3c-alphanumeric-soup-12933
END:VEVENT

END:VCALENDAR
