BEGIN:VCALENDAR
VERSION:2.0
PRODID:-//ChamberMaster//Event Calendar 2.0//EN
METHOD:PUBLISH
X-PUBLISHED-TTL:P3D
REFRESH-INTERVAL:P3D
CALSCALE:GREGORIAN
BEGIN:VEVENT
DTSTART:20181026T163000Z
DTEND:20181026T173000Z
X-MICROSOFT-CDO-ALLDAYEVENT:FALSE
SUMMARY:Lunch and Learn Series: "Why give a dam(n)?
DESCRIPTION:Pack a lunch and meet the experts! How do species coexist? From beaver dams\, to alewife migration\, to groundfish populations. Why we need restoration and research to support Maine's changing ecosystem.
X-ALT-DESC;FMTTYPE=text/html:Pack a lunch and meet the experts!&nbsp\;<span style="font-family:calibri\,sans-serif"><span style="font-size:11.0pt">How do species coexist? From beaver dams\, to alewife migration\, to groundfish populations. Why we need restoration <em>and</em> research to support Maine&rsquo\;s changing ecosystem.&nbsp\;&nbsp\;</span></span>
LOCATION:Maine Center for Coastal Fisheries 13 Atlantic Ave.\, Stonington\, ME 04681
UID:e.3061.2216
SEQUENCE:3
DTSTAMP:20260420T132136Z
URL:https://www.visitbarharbor.com/events/details/lunch-and-learn-series-why-give-a-dam-n-2216
END:VEVENT

END:VCALENDAR
