BEGIN:VCALENDAR
VERSION:2.0
PRODID:-//ChamberMaster//Event Calendar 2.0//EN
METHOD:PUBLISH
X-PUBLISHED-TTL:P3D
REFRESH-INTERVAL:P3D
CALSCALE:GREGORIAN
BEGIN:VEVENT
DTSTART:20180831T163000Z
DTEND:20180831T173000Z
X-MICROSOFT-CDO-ALLDAYEVENT:FALSE
SUMMARY:Lunch and Learn Series: "Why a lobster roll may cost you $40
DESCRIPTION:Pack a lunch and meet the experts! Learn about the research behind global lobster trade and coastal economies.
X-ALT-DESC;FMTTYPE=text/html:Pack a lunch and meet the experts! Learn about t<span style="font-family:calibri\,sans-serif"><span style="font-size:11.0pt">he research behind global lobster trade and coastal economies.</span></span>
LOCATION:Maine Center for Coastal Fisheries 13 Atlantic Ave.\, Stonington\, ME 04681
UID:e.3061.2214
SEQUENCE:3
DTSTAMP:20260420T170309Z
URL:https://www.visitbarharbor.com/events/details/lunch-and-learn-series-why-a-lobster-roll-may-cost-you-40-2214
END:VEVENT

END:VCALENDAR
