BEGIN:VCALENDAR
VERSION:2.0
PRODID:-//ChamberMaster//Event Calendar 2.0//EN
METHOD:PUBLISH
X-PUBLISHED-TTL:P3D
REFRESH-INTERVAL:P3D
CALSCALE:GREGORIAN
BEGIN:VEVENT
DTSTART:20180727T163000Z
DTEND:20180727T173000Z
X-MICROSOFT-CDO-ALLDAYEVENT:FALSE
SUMMARY:Lunch and Learn Series: "Plastic\, not so fantastic?"
DESCRIPTION:Pack a lunch and meet the experts! What really happens to the plastic you just used? Global plastic production\, disposal\, and microplastic as a pollutant in the ocean - and why it is concerning for human and ocean health.
X-ALT-DESC;FMTTYPE=text/html:<span style="font-family:calibri\,sans-serif"><span style="font-size:11.0pt">Pack a lunch and meet the experts! What really happens to the plastic you just used? Global plastic production\, disposal\, and microplastic as a pollutant in the ocean - and why it is concerning for human and ocean health.&nbsp\;&nbsp\;</span></span>
LOCATION:Maine Center for Coastal Fisheries 13 Atlantic Ave.\, Stonington\, ME 04681
UID:e.3061.2213
SEQUENCE:3
DTSTAMP:20260420T182840Z
URL:https://www.visitbarharbor.com/events/details/lunch-and-learn-series-plastic-not-so-fantastic-2213
END:VEVENT

END:VCALENDAR
