BEGIN:VCALENDAR
VERSION:2.0
PRODID:-//ChamberMaster//Event Calendar 2.0//EN
METHOD:PUBLISH
X-PUBLISHED-TTL:P3D
REFRESH-INTERVAL:P3D
CALSCALE:GREGORIAN
BEGIN:VEVENT
DTSTART:20180525T163000Z
DTEND:20180525T173000Z
X-MICROSOFT-CDO-ALLDAYEVENT:FALSE
SUMMARY:Lunch and Learn Series: "Navigating uncharted waters in the Bagaduce"
DESCRIPTION:Pack and a lunch and meet the experts! Learn how three towns are tackling co-management. The commitment of rural Maine communities to monitor\, manage\, and harvest alewife populations.
X-ALT-DESC;FMTTYPE=text/html:<span style="font-family:calibri\,sans-serif"><span style="font-size:11.0pt">Pack and a lunch and meet the experts! Learn how three towns are tackling co-management. The commitment of rural Maine communities to monitor\, manage\, and harvest alewife populations.&nbsp\;</span></span>
LOCATION:Maine Center for Coastal Fisheries 13 Atlantic Ave.\, Stonington\, ME 04681
UID:e.3061.2211
SEQUENCE:3
DTSTAMP:20260420T215950Z
URL:https://www.visitbarharbor.com/events/details/lunch-and-learn-series-navigating-uncharted-waters-in-the-bagaduce-2211
END:VEVENT

END:VCALENDAR
