BEGIN:VCALENDAR
VERSION:2.0
PRODID:-//ChamberMaster//Event Calendar 2.0//EN
METHOD:PUBLISH
X-PUBLISHED-TTL:P3D
REFRESH-INTERVAL:P3D
CALSCALE:GREGORIAN
BEGIN:VEVENT
DTSTART:20180629T163000Z
DTEND:20180629T173000Z
X-MICROSOFT-CDO-ALLDAYEVENT:FALSE
SUMMARY:Lunch and Learn Series: "A tale of two crustaceans"
DESCRIPTION:Pack a lunch and meet the experts! Learn about climate change and the effect on lobster and shrimp and how two of Maine's fisheries have been impacted by climate in very different ways.
X-ALT-DESC;FMTTYPE=text/html:<span style="font-family:calibri\,sans-serif"><span style="font-size:11.0pt">Pack a lunch and meet the experts! Learn about climate change and the effect on lobster and shrimp and how two of Maine&#39\;s fisheries have been impacted by climate in very different ways.&nbsp\;&nbsp\;</span></span>
LOCATION:Maine Center for Coastal Fisheries 13 Atlantic Avenue\, Stonington\, ME 04681
UID:e.3061.2212
SEQUENCE:3
DTSTAMP:20260420T200124Z
URL:https://www.visitbarharbor.com/events/details/lunch-and-learn-series-a-tale-of-two-crustaceans-2212
END:VEVENT

END:VCALENDAR
