BEGIN:VCALENDAR
VERSION:2.0
PRODID:-//ChamberMaster//Event Calendar 2.0//EN
METHOD:PUBLISH
X-PUBLISHED-TTL:P3D
REFRESH-INTERVAL:P3D
CALSCALE:GREGORIAN
BEGIN:VEVENT
DTSTART:20180928T163000Z
DTEND:20180928T173000Z
X-MICROSOFT-CDO-ALLDAYEVENT:FALSE
SUMMARY:Lunch and Learn Series: "A fish is a fish is a fish\, or is it?"
DESCRIPTION:Pack a lunch and meet the experts! How does aquaculture fit in Maine's fishing communities?
X-ALT-DESC;FMTTYPE=text/html:Pack a lunch and meet the experts!&nbsp\;<span style="font-family:calibri\,sans-serif"><span style="font-size:11.0pt">How does aquaculture fit in Maine&#39\;s fishing communities?</span></span>&nbsp\;&nbsp\;
LOCATION:Maine Center for Coastal Fisheries 13 Atlantic Ave.\, Stonington\, ME 04681
UID:e.3061.2215
SEQUENCE:3
DTSTAMP:20260420T150523Z
URL:https://www.visitbarharbor.com/events/details/lunch-and-learn-series-a-fish-is-a-fish-is-a-fish-or-is-it-2215
END:VEVENT

END:VCALENDAR
