BEGIN:VCALENDAR
VERSION:2.0
PRODID:-//ChamberMaster//Event Calendar 2.0//EN
METHOD:PUBLISH
X-PUBLISHED-TTL:P3D
REFRESH-INTERVAL:P3D
CALSCALE:GREGORIAN
BEGIN:VEVENT
DTSTART:20191214T010000Z
DTEND:20191214T030000Z
X-MICROSOFT-CDO-ALLDAYEVENT:FALSE
SUMMARY:Lunasa - Christmas from Ireland
DESCRIPTION:" state-of-the-art Irish music as aggressively infectious as you'll ever hear."   Dirty Linen (2000) Formed in 1997 and celebrating its 20th anniversary\, L nasa has long been one of contemporary Irish music's leading voices. Named after an ancient Celtic harvest festival in honour of the Irish god Lugh\, the group that Folk Roots magazine once called an "Irish music dream team" was formed from members of some of Ireland's greatest bands and over the years has proven its mettle time and again\, having sold over a quarter of a million records\, and collaborated with notable artists outside the tradition such as Natalie Merchant and Mary Chapin Carpenter. They have performed more than 2\,000 shows across 36 countries including high-profile concert venues such as Carnegie Hall\, The Hollywood Bowl\, National Concert Hall (Dublin)\, and Paris Bercy\, and many of the leading festivals such as Glastonbury\, Womadelaide & Edmonton.
X-ALT-DESC;FMTTYPE=text/html:&ldquo\;&hellip\;state-of-the-art Irish music as aggressively infectious as you&rsquo\;ll ever hear.&rdquo\; &ndash\; Dirty Linen (2000) Formed in 1997 and celebrating its 20th anniversary\, L&uacute\;nasa has long been one of contemporary Irish music&rsquo\;s leading voices. Named after an ancient Celtic harvest festival in honour of the Irish god Lugh\, the group that Folk Roots magazine once called an &ldquo\;Irish music dream team&rdquo\; was formed from members of some of Ireland&rsquo\;s greatest bands and over the years has proven its mettle time and again\, having sold over a quarter of a million records\, and collaborated with notable artists outside the tradition such as Natalie Merchant and Mary Chapin Carpenter. They have performed more than 2\,000 shows across 36 countries including high-profile concert venues such as Carnegie Hall\, The Hollywood Bowl\, National Concert Hall (Dublin)\, and Paris Bercy\, and many of the leading festivals such as Glastonbury\, Womadelaide &amp\; Edmonton.
LOCATION:1932 Criterion Theatre 35 Cottage Street Bar Harbor\, ME 04609
UID:e.3061.14260
SEQUENCE:3
DTSTAMP:20260419T141833Z
URL:https://www.visitbarharbor.com/events/details/lunasa-christmas-from-ireland-14260
END:VEVENT

END:VCALENDAR
