BEGIN:VCALENDAR
VERSION:2.0
PRODID:-//ChamberMaster//Event Calendar 2.0//EN
METHOD:PUBLISH
X-PUBLISHED-TTL:P3D
REFRESH-INTERVAL:P3D
CALSCALE:GREGORIAN
BEGIN:VEVENT
DTSTART:20180710T190000Z
DTEND:20180710T230000Z
X-MICROSOFT-CDO-ALLDAYEVENT:FALSE
SUMMARY:LuLaRoe Fundraiser
DESCRIPTION:LuLaRoe Fundraiser for Church of Our Father - Men's Group. Shop a beautiful inventory of shirts\, dresses\, skirts\, leggings\, kimonos\, denim and cardigans. Kid sizes 2t-14\, Adult sizes xxs - 3xl.
X-ALT-DESC;FMTTYPE=text/html:LuLaRoe Fundraiser for Church of Our Father - Men&#39\;s Group. Shop a beautiful inventory of shirts\, dresses\, skirts\, leggings\, kimonos\, denim and cardigans. Kid sizes 2t-14\, Adult sizes xxs - 3xl.&nbsp\;
LOCATION:Hulls Cove School House 91 State Highway 3 Hulls Cove\, ME 04644
UID:e.3061.3076
SEQUENCE:3
DTSTAMP:20260420T215734Z
URL:https://www.visitbarharbor.com/events/details/lularoe-fundraiser-07-10-2018-3076
END:VEVENT

END:VCALENDAR
