BEGIN:VCALENDAR
VERSION:2.0
PRODID:-//ChamberMaster//Event Calendar 2.0//EN
METHOD:PUBLISH
X-PUBLISHED-TTL:P3D
REFRESH-INTERVAL:P3D
CALSCALE:GREGORIAN
BEGIN:VEVENT
DTSTART:20180823T221500Z
DTEND:20180824T003000Z
X-MICROSOFT-CDO-ALLDAYEVENT:FALSE
SUMMARY:Love Letters and Cocktail Hour--A Fundraiser for Island Connections in Collaboration with Mt Desert Chamber of Commerce
DESCRIPTION:Join us for a wonderful evening as one of our volunteer drivers\, Ephron Catlin and his acting partner\, Chloe Hatcher are generously donating a performance of Love Letters as a fundraiser for Island Connections on Thursday\, August 23\, 2018 at 6:15 p.m. at The Neighborhood House in Northeast Harbor.\n\nWe are collaborating with the Mt. Desert Chamber of Commerce for a cocktail hour from 5-6 p.m. prior to the performance. Please join us for this lovely August evening.\n\nTo purchase tickets\, please click on the link below and scroll down to the bottom of the page! We hope you can join us.\n\n\nhttps://interland3.donorperfect.net/weblink/WebLink.aspx?name=E292104&id=9
X-ALT-DESC;FMTTYPE=text/html:<p>Join us for a wonderful evening as one of our volunteer drivers\, Ephron Catlin and his acting partner\, Chloe Hatcher are generously donating a performance of Love Letters as a fundraiser for Island Connections on Thursday\, August 23\, 2018 at 6:15 p.m. at&nbsp\;<a class="profileLink" href="https://www.facebook.com/the.neighborhood.house/?fref=mentions" style="color: rgb(54\, 88\, 153)\; cursor: pointer\; text-decoration-line: none\; font-family: inherit\;">The Neighborhood House</a>&nbsp\;in Northeast Harbor.</p>\n\n<p>We are collaborating with the&nbsp\;Mt. Desert Chamber of Commerce&nbsp\;for a cocktail hour from 5-6 p.m. prior to the performance. Please join us for this lovely August evening.</p>\n\n<p><strong>To purchase ticket<span style="font-family:inherit">s\, please click on the link below and scroll down to the bottom of the page! We hope you can join us.</span></strong></p>\n\n<div>\n<p>https://interland3.donorperfect.net/weblink/WebLink.aspx?name=E292104&amp\;id=9<br />\n&nbsp\;</p>\n</div>\n
LOCATION:
UID:e.3061.3522
SEQUENCE:3
DTSTAMP:20260420T170937Z
URL:https://www.visitbarharbor.com/events/details/love-letters-and-cocktail-hour-a-fundraiser-for-island-connections-in-collaboration-with-mt-desert-chamber-of-commerce-3522
END:VEVENT

END:VCALENDAR
