BEGIN:VCALENDAR
VERSION:2.0
PRODID:-//ChamberMaster//Event Calendar 2.0//EN
METHOD:PUBLISH
X-PUBLISHED-TTL:P3D
REFRESH-INTERVAL:P3D
CALSCALE:GREGORIAN
BEGIN:VEVENT
DTSTART:20181217T000000Z
DTEND:20181217T020000Z
X-MICROSOFT-CDO-ALLDAYEVENT:FALSE
SUMMARY:Lobster War (film)
DESCRIPTION:Sunday\, December 16th at 7 p.m. LOBSTER WAR is an award-winning feature documentary about a conflict between the United States and Canada over waters that both countries have claimed since the end of the Revolutionary War. The disputed 277 square miles of sea\, known as the Gray Zone\, were traditionally fished by US lobstermen. But as the Gulf of Maine has warmed faster than nearly any other body of water on the planet\, the Gray Zone's previously modest lobster population has surged. As a result\, Canadians have begun to assert their sovereignty in the area\, fighting with the Americans to claim the bounty. General Admission by Section: $10 Balc\, $8 Orch
X-ALT-DESC;FMTTYPE=text/html:Sunday\, December 16th at 7 p.m. LOBSTER WAR is an award-winning feature documentary about a conflict between the United States and Canada over waters that both countries have claimed since the end of the Revolutionary War. The disputed 277 square miles of sea\, known as the Gray Zone\, were traditionally fished by US lobstermen. But as the Gulf of Maine has warmed faster than nearly any other body of water on the planet\, the Gray Zone&rsquo\;s previously modest lobster population has surged. As a result\, Canadians have begun to assert their sovereignty in the area\, fighting with the Americans to claim the bounty. General Admission by Section: $10 Balc\, $8 Orch
LOCATION:1932 Criterion Theatre 35 Cottage St Bar Harbor\, ME
UID:e.3061.4823
SEQUENCE:3
DTSTAMP:20260420T113245Z
URL:https://www.visitbarharbor.com/events/details/lobster-war-film-4823
END:VEVENT

END:VCALENDAR
