BEGIN:VCALENDAR
VERSION:2.0
PRODID:-//ChamberMaster//Event Calendar 2.0//EN
METHOD:PUBLISH
X-PUBLISHED-TTL:P3D
REFRESH-INTERVAL:P3D
CALSCALE:GREGORIAN
BEGIN:VEVENT
DTSTART:20220629T190000Z
DTEND:20220629T210000Z
X-MICROSOFT-CDO-ALLDAYEVENT:FALSE
SUMMARY:Liviah's Crafternoons - Simple Batik and Tie Dye
DESCRIPTION:Liviah's Crafternoons - Simple Batik and Tie Dye Summer afternoon sessions to create. This week's theme is Messy Fun! Using wax batik and tie dye techniques\, we will be creating fun and unique fabric designs! Wednesday June 29th\, 2022\, from 3:00pm to 5:00pm ArtWaves 1345A Hwy 102 Bar Harbor 207-266-0010 To Register: https://artwavesmdi.org/event-4848118 $30 materials included or bring some of your own! ($20 for members) Kids aged 7-11 years of all skill levels Masks\, vax'd (over 5)\, and distancing for staff and participant safety.
X-ALT-DESC;FMTTYPE=text/html:Liviah&#39\;s Crafternoons - Simple Batik and Tie Dye Summer afternoon sessions to create. This week&#39\;s theme is Messy Fun! Using wax batik and tie dye techniques\, we will be creating fun and unique fabric designs! Wednesday June 29th\, 2022\, from 3:00pm to 5:00pm ArtWaves 1345A Hwy 102 Bar Harbor 207-266-0010 To Register: https://artwavesmdi.org/event-4848118 $30 materials included or bring some of your own! ($20 for members) Kids aged 7-11 years of all skill levels Masks\, vax&#39\;d (over 5)\, and distancing for staff and participant safety.
LOCATION:ArtWaves 1345A Hwy 102 Bar Harbor
UID:e.3061.39847
SEQUENCE:3
DTSTAMP:20260420T040937Z
URL:https://www.visitbarharbor.com/events/details/liviah-s-crafternoons-simple-batik-and-tie-dye-39847
END:VEVENT

END:VCALENDAR
