BEGIN:VCALENDAR
VERSION:2.0
PRODID:-//ChamberMaster//Event Calendar 2.0//EN
METHOD:PUBLISH
X-PUBLISHED-TTL:P3D
REFRESH-INTERVAL:P3D
CALSCALE:GREGORIAN
BEGIN:VEVENT
DTSTART:20190912T220000Z
DTEND:20190913T010000Z
X-MICROSOFT-CDO-ALLDAYEVENT:FALSE
SUMMARY:Live Music Thursday's at Bar Harbor BeerWorks
DESCRIPTION:Live music every Thursday night at BeerWorks 6-9pm
X-ALT-DESC;FMTTYPE=text/html:Live music every Thursday night at BeerWorks 6-9pm&nbsp\;
LOCATION:Bar Harbor BeerWorks 119 Main St Bar Harbor Me 04690
UID:e.3061.11862
SEQUENCE:3
DTSTAMP:20260419T212644Z
URL:https://www.visitbarharbor.com/events/details/live-music-thursday-s-at-bar-harbor-beerworks-09-12-2019-11862
END:VEVENT

END:VCALENDAR
