BEGIN:VCALENDAR
VERSION:2.0
PRODID:-//ChamberMaster//Event Calendar 2.0//EN
METHOD:PUBLISH
X-PUBLISHED-TTL:P3D
REFRESH-INTERVAL:P3D
CALSCALE:GREGORIAN
BEGIN:VEVENT
DTSTART:20180806T200000Z
DTEND:20180806T210000Z
X-MICROSOFT-CDO-ALLDAYEVENT:FALSE
SUMMARY:Live Longer\, Live Better Lecture Series - Why Reversing Aging is Easier Than Reversing Baldness
DESCRIPTION:In the inaugural lecture in our three-part Live Longer\, Live Better Lecture Series\, David Sinclair\, Ph.D.\, a professor at Harvard Medical School and co-director of the Paul F. Glenn Center for the Biology of Aging\, will discuss why we age and how we can slow aging's effects. Sinclair was named to TIME magazine's list of the 100 most influential people in the world for his research on aging.
X-ALT-DESC;FMTTYPE=text/html:In the inaugural lecture in our three-part Live Longer\, Live Better Lecture Series\, David Sinclair\, Ph.D.\, a professor at Harvard Medical School and co-director of the Paul F. Glenn Center for the Biology of Aging\, will discuss why we age and how we can slow aging&#39\;s effects. Sinclair was named to TIME magazine&#39\;s list of the 100 most influential people in the world for his research on aging.
LOCATION:Maren Auditorium\, MDI Biological Laboratory
UID:e.3061.2856
SEQUENCE:3
DTSTAMP:20260420T170526Z
URL:https://www.visitbarharbor.com/events/details/live-longer-live-better-lecture-series-why-reversing-aging-is-easier-than-reversing-baldness-2856
END:VEVENT

END:VCALENDAR
