BEGIN:VCALENDAR
VERSION:2.0
PRODID:-//ChamberMaster//Event Calendar 2.0//EN
METHOD:PUBLISH
X-PUBLISHED-TTL:P3D
REFRESH-INTERVAL:P3D
CALSCALE:GREGORIAN
BEGIN:VEVENT
DTSTART:20180810T200000Z
DTEND:20180810T200000Z
X-MICROSOFT-CDO-ALLDAYEVENT:FALSE
SUMMARY:Live Longer\, Live Better Lecture Series - Finding Rejuvenating Interventions: Immunity and Stem Cells
DESCRIPTION:The final lecture in our Live Longer\, Live Better Lecture Series will be delivered by Heinrich Jasper\, Ph.D.\, of Genentech\, which has been at the forefront of the biotech industry for more than 40 years\, and the Buck Institute for Research on Aging. Jasper will talk about his long-term goal of developing therapies to restore the body's regenerative potential.
X-ALT-DESC;FMTTYPE=text/html:The final lecture in our Live Longer\, Live Better Lecture Series will be delivered by Heinrich Jasper\, Ph.D.\, of Genentech\, which has been at the forefront of the biotech industry for more than 40 years\, and the Buck Institute for Research on Aging. Jasper will talk about his long-term goal of developing therapies to restore the body&#39\;s regenerative potential.
LOCATION:Maren Auditorium\, MDI Biological Laboratory
UID:e.3061.2858
SEQUENCE:3
DTSTAMP:20260420T170236Z
URL:https://www.visitbarharbor.com/events/details/live-longer-live-better-lecture-series-finding-rejuvenating-interventions-immunity-and-stem-cells-2858
END:VEVENT

END:VCALENDAR
