BEGIN:VCALENDAR
VERSION:2.0
PRODID:-//ChamberMaster//Event Calendar 2.0//EN
METHOD:PUBLISH
X-PUBLISHED-TTL:P3D
REFRESH-INTERVAL:P3D
CALSCALE:GREGORIAN
BEGIN:VEVENT
DTSTART:20180809T200000Z
DTEND:20180809T210000Z
X-MICROSOFT-CDO-ALLDAYEVENT:FALSE
SUMMARY:Live Longer\, Live Better Lecture Series - Aging and Cancer: Rival Demons
DESCRIPTION:The second speaker in our Live Longer\, Live Better Lecture Series is Judith Campisi\, Ph.D.\, of the Lawrence Berkeley National Laboratory and the Buck Institute for Research on Aging. Campisi will talk about why aging is the single largest risk factor for developing a panoply of diseases\, from cancer to neurodegeneration\, and about the interface between cancer and aging.
X-ALT-DESC;FMTTYPE=text/html:The second speaker in our Live Longer\, Live Better Lecture Series is Judith Campisi\, Ph.D.\, of the Lawrence Berkeley National Laboratory and the Buck Institute for Research on Aging. Campisi will talk about why aging is the single largest risk factor for developing a panoply of diseases\, from cancer to neurodegeneration\, and about the interface between cancer and aging.
LOCATION:Maren Auditorium\, MDI Biological Laboratory
UID:e.3061.2857
SEQUENCE:3
DTSTAMP:20260420T183125Z
URL:https://www.visitbarharbor.com/events/details/live-longer-live-better-lecture-series-aging-and-cancer-rival-demons-2857
END:VEVENT

END:VCALENDAR
