BEGIN:VCALENDAR
VERSION:2.0
PRODID:-//ChamberMaster//Event Calendar 2.0//EN
METHOD:PUBLISH
X-PUBLISHED-TTL:P3D
REFRESH-INTERVAL:P3D
CALSCALE:GREGORIAN
BEGIN:VEVENT
DTSTART:20190201T230000Z
DTEND:20190202T020000Z
X-MICROSOFT-CDO-ALLDAYEVENT:FALSE
SUMMARY:Live Local Fridays at the Bistro
DESCRIPTION:Join us at the Bistro at the Atlantic Oceanside Hotel for live music performed by local musicians every Friday from 6-9pm.  Dinner service begins at 5:00\, come early to get a seat and enjoy the amazing talent found on and around MDI!
X-ALT-DESC;FMTTYPE=text/html:Join us at the Bistro at the Atlantic Oceanside Hotel for live music performed by local musicians every Friday from 6-9pm.&nbsp\; Dinner service begins at 5:00\, come early to get a seat and enjoy the amazing talent found on and around MDI!
LOCATION:The Bistro at Atlantic Oceanside Hotel 119 Eden Street Bar Harbor\, ME 04609
UID:e.3061.4881
SEQUENCE:3
DTSTAMP:20260420T063032Z
URL:https://www.visitbarharbor.com/events/details/live-local-fridays-at-the-bistro-02-01-2019-4881
END:VEVENT

END:VCALENDAR
