BEGIN:VCALENDAR
VERSION:2.0
PRODID:-//ChamberMaster//Event Calendar 2.0//EN
METHOD:PUBLISH
X-PUBLISHED-TTL:P3D
REFRESH-INTERVAL:P3D
CALSCALE:GREGORIAN
BEGIN:VEVENT
DTSTART:20180905T220000Z
DTEND:20180906T010000Z
X-MICROSOFT-CDO-ALLDAYEVENT:FALSE
SUMMARY:Create & Sip: Poetry & Printmaking
DESCRIPTION:Pick out a poem or write your own and create a linocut print inspired by it. \nThis is a perfect project for making cards for friends and family or just wonderful matted works of art. The printmaking process allows you to make one design and print it as many times as you would like\, continuously creating a duplicate image for a new card. Change up color choices\, position\, location\, etc.\n Oh! and try out our retro vintage typewriter! All tools\, materials\, wine and tea and step by step instructions are provided.No art experience necessary.\n\n\nInstructor: Jessica Harris
X-ALT-DESC;FMTTYPE=text/html:<pre>\n<span style="color:rgb(46\, 46\, 46)\; font-family:open sans\,sans-serif\; font-size:15px">Pick out a poem or write your own and create a linocut print inspired by it. \nThis is a perfect project for making cards for friends and family or just wonderful matted works of art. The printmaking process allows you to make one design and print it as many times as you would like\, continuously creating a duplicate image for a new card. Change up color choices\, position\, location\, etc.\n Oh! and try out our retro vintage typewriter! All tools\, materials\, wine and tea and step by step instructions are provided.No art experience necessary.</span></pre>\n\n<pre>\n<span style="font-size:12px"><span style="font-family:tahoma"><span style="background-color:rgb(254\, 253\, 253)\; color:rgb(46\, 46\, 46)">Instructor: Jessica Harris</span></span></span></pre>\n
LOCATION:ArtWaves\, 1345-A ME-102\, Bar Harbor\, ME 04609\, USA
UID:e.3061.3137
SEQUENCE:3
DTSTAMP:20260420T163804Z
URL:https://www.visitbarharbor.com/events/details/little-linocuts-printmaking-3137
END:VEVENT

END:VCALENDAR
